BEGIN:VCALENDAR
VERSION:2.0
PRODID:-//DorfNews Wetteraukreis - ECPv6.15.20//NONSGML v1.0//EN
CALSCALE:GREGORIAN
METHOD:PUBLISH
X-ORIGINAL-URL:https://www.dorfnews-wetteraukreis.de
X-WR-CALDESC:Veranstaltungen im DorfNews Wetteraukreis
REFRESH-INTERVAL;VALUE=DURATION:PT1H
X-Robots-Tag:noindex
X-PUBLISHED-TTL:PT1H
BEGIN:VTIMEZONE
TZID:Europe/Berlin
BEGIN:DAYLIGHT
TZOFFSETFROM:+0100
TZOFFSETTO:+0200
TZNAME:CEST
DTSTART:20230326T010000
END:DAYLIGHT
BEGIN:STANDARD
TZOFFSETFROM:+0200
TZOFFSETTO:+0100
TZNAME:CET
DTSTART:20231029T010000
END:STANDARD
BEGIN:DAYLIGHT
TZOFFSETFROM:+0100
TZOFFSETTO:+0200
TZNAME:CEST
DTSTART:20240331T010000
END:DAYLIGHT
BEGIN:STANDARD
TZOFFSETFROM:+0200
TZOFFSETTO:+0100
TZNAME:CET
DTSTART:20241027T010000
END:STANDARD
BEGIN:DAYLIGHT
TZOFFSETFROM:+0100
TZOFFSETTO:+0200
TZNAME:CEST
DTSTART:20250330T010000
END:DAYLIGHT
BEGIN:STANDARD
TZOFFSETFROM:+0200
TZOFFSETTO:+0100
TZNAME:CET
DTSTART:20251026T010000
END:STANDARD
BEGIN:DAYLIGHT
TZOFFSETFROM:+0100
TZOFFSETTO:+0200
TZNAME:CEST
DTSTART:20260329T010000
END:DAYLIGHT
BEGIN:STANDARD
TZOFFSETFROM:+0200
TZOFFSETTO:+0100
TZNAME:CET
DTSTART:20261025T010000
END:STANDARD
END:VTIMEZONE
BEGIN:VEVENT
DTSTART;TZID=Europe/Berlin:20251221T130000
DTEND;TZID=Europe/Berlin:20251221T143000
DTSTAMP:20260423T194948
CREATED:20251217T161053Z
LAST-MODIFIED:20251217T161123Z
UID:23574-1766322000-1766327400@www.dorfnews-wetteraukreis.de
SUMMARY:Kurende Blasen
DESCRIPTION:Der Posaunenchor der Evangelischen Kirchengemeinde Herrnhaag lädt am 4. Advent in Lorbach\, Diebach und Vonhausen zum Kurrende Blasen ein. \nDer Posaunenchor ist am Sonntag dem 21.12. um \n13 Uhr in Lorbach auf dem Brunnenplatz \n13:30 Uhr in Diebach beim Dorfgemeinschaftshaus \n14 Uhr in Vonhausen beim Feuerwehrhaus \nund freut sich auf seine Zuhörer.
URL:https://www.dorfnews-wetteraukreis.de/event/kurende-blasen/
LOCATION:Brunnenplatz Lorbach
ATTACH;FMTTYPE=image/jpeg:https://www.dorfnews-wetteraukreis.de/wp-content/uploads/sites/377/2025/12/csm_Plakat_Kurrendeblasen_7c0ef4370a-e1765987604277.jpg
END:VEVENT
BEGIN:VEVENT
DTSTART;TZID=Europe/Berlin:20251203T190000
DTEND;TZID=Europe/Berlin:20251203T200000
DTSTAMP:20260423T194948
CREATED:20251127T123708Z
LAST-MODIFIED:20251127T123737Z
UID:23287-1764788400-1764792000@www.dorfnews-wetteraukreis.de
SUMMARY:Lebendiger Advent Landfrauen Wolferborn
DESCRIPTION:Die Landfrauen laden herzlich ein zum dritten Türchen des lebendigen Adventskalenders! \nFreut euch auf einen netten Abend mit Glühwein\, Punsch und Bratwürstchen. Alle Spenden gehen an die KiTa Regenbogenland! \nBitte bringt eine Tasse mit!
URL:https://www.dorfnews-wetteraukreis.de/event/lebendiger-advent-landfrauen-wolferborn/
LOCATION:Am Kaspersberg 5\, Am Kaspersberg 5\, Wolferborn\, 63654
ATTACH;FMTTYPE=image/jpeg:https://www.dorfnews-wetteraukreis.de/wp-content/uploads/sites/377/2025/11/3.jpeg
END:VEVENT
BEGIN:VEVENT
DTSTART;TZID=Europe/Berlin:20241130T100000
DTEND;TZID=Europe/Berlin:20241130T130000
DTSTAMP:20260423T194948
CREATED:20241031T061624Z
LAST-MODIFIED:20241031T061624Z
UID:19422-1732960800-1732971600@www.dorfnews-wetteraukreis.de
SUMMARY:Adventlicher Vereinsvormittag
DESCRIPTION:**Einladung zum Vereinsvormittag** \nDer TV07 Geiß-Nidda lädt herzlich zum Vereinsvormittag am **30.11.2024** ein!\n**Wann:** 10:00 Uhr bis ca. 13:00 Uhr\n**Wo:** Turnhalle Geiß-Nidda \nFreut euch auf ein buntes Programm für die ganze Familie\, eine Tauschbörse für Vereinskleidung sowie Essen und Trinken in gemütlicher Runde. Kommt vorbei\, bringt gute Laune mit\, und verbringt einen tollen Vormittag mit uns! \n**Wir freuen uns auf euch!** \nVereinsvormittag des TV07 Geiß-Nidda\nEuer TV07 Geiß-Nidda
URL:https://www.dorfnews-wetteraukreis.de/event/adventlicher-vereinsvormittag/
LOCATION:Turnhalle Geiß-Nidda
ATTACH;FMTTYPE=image/jpeg:https://www.dorfnews-wetteraukreis.de/wp-content/uploads/sites/377/2024/10/Einladung-Vereinsvormittag-2024-Header.jpg
END:VEVENT
END:VCALENDAR