BEGIN:VCALENDAR
VERSION:2.0
PRODID:-//DorfNews Wetteraukreis - ECPv6.15.20//NONSGML v1.0//EN
CALSCALE:GREGORIAN
METHOD:PUBLISH
X-WR-CALNAME:DorfNews Wetteraukreis
X-ORIGINAL-URL:https://www.dorfnews-wetteraukreis.de
X-WR-CALDESC:Veranstaltungen im DorfNews Wetteraukreis
REFRESH-INTERVAL;VALUE=DURATION:PT1H
X-Robots-Tag:noindex
X-PUBLISHED-TTL:PT1H
BEGIN:VTIMEZONE
TZID:Europe/Berlin
BEGIN:DAYLIGHT
TZOFFSETFROM:+0100
TZOFFSETTO:+0200
TZNAME:CEST
DTSTART:20240331T010000
END:DAYLIGHT
BEGIN:STANDARD
TZOFFSETFROM:+0200
TZOFFSETTO:+0100
TZNAME:CET
DTSTART:20241027T010000
END:STANDARD
BEGIN:DAYLIGHT
TZOFFSETFROM:+0100
TZOFFSETTO:+0200
TZNAME:CEST
DTSTART:20250330T010000
END:DAYLIGHT
BEGIN:STANDARD
TZOFFSETFROM:+0200
TZOFFSETTO:+0100
TZNAME:CET
DTSTART:20251026T010000
END:STANDARD
BEGIN:DAYLIGHT
TZOFFSETFROM:+0100
TZOFFSETTO:+0200
TZNAME:CEST
DTSTART:20260329T010000
END:DAYLIGHT
BEGIN:STANDARD
TZOFFSETFROM:+0200
TZOFFSETTO:+0100
TZNAME:CET
DTSTART:20261025T010000
END:STANDARD
END:VTIMEZONE
BEGIN:VEVENT
DTSTART;TZID=Europe/Berlin:20251219T170000
DTEND;TZID=Europe/Berlin:20251219T183000
DTSTAMP:20260423T205822
CREATED:20251125T220501Z
LAST-MODIFIED:20251126T104616Z
UID:23272-1766163600-1766169000@www.dorfnews-wetteraukreis.de
SUMMARY:Familien-Mitmach-Musikshow mit Daniel Kallauch in NIDDA
DESCRIPTION:Jede Menge Spaß und Unterhaltung für Klein und Groß\, direkten Bezug zu kindlichen Lebenswelten und aktuelle Rock- und Popmusik – das alles erwartet die Besucher beim Auftritt von Daniel Kallauch am Freitag\, dem 19. Dezember 2025 um 17 Uhr in Nidda-Wallernhausen\, ein Highlight passend direkt zum Ferienbeginn am 19.12.25 um 17 Uhr.\n„Himmelhochjauchzend“ ist keine gewöhnliche Adventsshow – es ist ein Fest voller Freude\, Musik und Herz. Daniel Kallauch begeistert Kinder und Erwachsene mit rockigen Melodien\, witzigen Puppenspieleinlagen und Momenten\, die zum Staunen bringen. Gemeinsam wird gelacht\, getanzt und gesungen\, während Spaßvogel Willibald mit seiner frechen Art das Publikum verzaubert. Kallauch schafft es\, das Wunder von Weihnachten lebendig und spürbar zu machen – modern\, nahbar und voller Lebensfreude.\nDas Konzert wird von einem Zusammenschluss vom Christusforum Nidda\, Stadtmission Nidda\, Ev. Gemeinschaft Ulfa und der Freien Christengemeinde Hirzenhain veranstaltet.\nEs findet in der Halle des Christusforum Nidda in der Ranstädter Strasse 20 in Wallernhausen statt.\nEinlass ist ab 16.30 Uhr\, um sich die besten Plätze zu sichern. Der Kartenvorverkauf ist direkt bei den veranstaltenden Gemeinden\, der Stadtbäckerei Rank oder online über www.cvents.eu möglich.\nDie Karte kostet 10€ im Vorverkauf\, Erwachsene zahlen den Kinderpreis\, an der Abendkasse stehen wenige Restkarten für 14€ zur Verfügung.
URL:https://www.dorfnews-wetteraukreis.de/event/familien-mitmach-musikshow-mit-daniel-kallauch-in-nidda/
LOCATION:Ranstädter Str. 20\, Wallernhausen
ATTACH;FMTTYPE=image/jpeg:https://www.dorfnews-wetteraukreis.de/wp-content/uploads/sites/377/2025/11/Plakat-Kallauch.jpg
END:VEVENT
END:VCALENDAR