BEGIN:VCALENDAR
VERSION:2.0
PRODID:-//DorfNews Wetteraukreis - ECPv6.15.20//NONSGML v1.0//EN
CALSCALE:GREGORIAN
METHOD:PUBLISH
X-WR-CALNAME:DorfNews Wetteraukreis
X-ORIGINAL-URL:https://www.dorfnews-wetteraukreis.de
X-WR-CALDESC:Veranstaltungen im DorfNews Wetteraukreis
REFRESH-INTERVAL;VALUE=DURATION:PT1H
X-Robots-Tag:noindex
X-PUBLISHED-TTL:PT1H
BEGIN:VTIMEZONE
TZID:Europe/Berlin
BEGIN:DAYLIGHT
TZOFFSETFROM:+0100
TZOFFSETTO:+0200
TZNAME:CEST
DTSTART:20240331T010000
END:DAYLIGHT
BEGIN:STANDARD
TZOFFSETFROM:+0200
TZOFFSETTO:+0100
TZNAME:CET
DTSTART:20241027T010000
END:STANDARD
BEGIN:DAYLIGHT
TZOFFSETFROM:+0100
TZOFFSETTO:+0200
TZNAME:CEST
DTSTART:20250330T010000
END:DAYLIGHT
BEGIN:STANDARD
TZOFFSETFROM:+0200
TZOFFSETTO:+0100
TZNAME:CET
DTSTART:20251026T010000
END:STANDARD
BEGIN:DAYLIGHT
TZOFFSETFROM:+0100
TZOFFSETTO:+0200
TZNAME:CEST
DTSTART:20260329T010000
END:DAYLIGHT
BEGIN:STANDARD
TZOFFSETFROM:+0200
TZOFFSETTO:+0100
TZNAME:CET
DTSTART:20261025T010000
END:STANDARD
END:VTIMEZONE
BEGIN:VEVENT
DTSTART;TZID=Europe/Berlin:20251031T130000
DTEND;TZID=Europe/Berlin:20251031T143000
DTSTAMP:20260423T002819
CREATED:20251006T101419Z
LAST-MODIFIED:20250930T101611Z
UID:22719-1761915600-1761921000@www.dorfnews-wetteraukreis.de
SUMMARY:ChatGPT für Einsteiger:innen
DESCRIPTION:Brainstorming und Content-Erstellung mit KIIn diesem Online-Seminar erkunden Sie die vielfältigen Möglichkeiten von Künstlicher Intelligenz (KI) in verschiedenen Bereichen des Brainstormings und der Textgenerierung. Sie erfahren\, wie KI Sie bei der Erstellung von Ideen kreativ unterstützt und Ihnen eine Fülle von inspirierenden Ansätzen in der Kommunikation liefern kann. Und wie KI-Tools Ihnen bei der Texterstellung für Social Media oder der nächsten Kursbeschreibung unter die Arme greifen und Ihnen helfen\, ansprechende und wirkungsvolle Inhalte zu gestalten.\nINHALTE: \n\nToolvorstellung: Funktionen von ChatGPT und mit der Nutzung verbundene Vor- und Nachteile\nAnwendung\, Einsatzbereiche und Herausforderungen des Tools\nIdeen entwickeln und bewerten mit ChatGPT\n\nZielgruppe: Dieses Seminar richtet sich an Einsteiger:innen die noch keine oder wenig Erfahrung mit ChatGPT haben. \nDie Teilnahme an diesem Fortbildungslehrgang wird für die Verlängerung der folgenden DOSB-Lizenzen des Landessportbundes Hessen\, der Sportjugend Hessen und des Hessischen Fußball-Verbandes mit 2 Lerneinheiten (LE) anerkannt:\n\nVereinsmanager:in C und Vereinsmanager:in B (VM)\nJugendleiter:in (JL)\nVereinsmanagement HFV
URL:https://www.dorfnews-wetteraukreis.de/event/chatgpt-fuer-einsteigerinnen/
LOCATION:Online
ORGANIZER;CN="Bildungsakademie des Landessportbundes Hessen e.V.":MAILTO:imazzanti-kaiser@sport-erlebnisse.de
END:VEVENT
END:VCALENDAR