BEGIN:VCALENDAR
VERSION:2.0
PRODID:-//DorfNews Wetteraukreis - ECPv6.15.20//NONSGML v1.0//EN
CALSCALE:GREGORIAN
METHOD:PUBLISH
X-ORIGINAL-URL:https://www.dorfnews-wetteraukreis.de
X-WR-CALDESC:Veranstaltungen im DorfNews Wetteraukreis
REFRESH-INTERVAL;VALUE=DURATION:PT1H
X-Robots-Tag:noindex
X-PUBLISHED-TTL:PT1H
BEGIN:VTIMEZONE
TZID:Europe/Berlin
BEGIN:DAYLIGHT
TZOFFSETFROM:+0100
TZOFFSETTO:+0200
TZNAME:CEST
DTSTART:20240331T010000
END:DAYLIGHT
BEGIN:STANDARD
TZOFFSETFROM:+0200
TZOFFSETTO:+0100
TZNAME:CET
DTSTART:20241027T010000
END:STANDARD
BEGIN:DAYLIGHT
TZOFFSETFROM:+0100
TZOFFSETTO:+0200
TZNAME:CEST
DTSTART:20250330T010000
END:DAYLIGHT
BEGIN:STANDARD
TZOFFSETFROM:+0200
TZOFFSETTO:+0100
TZNAME:CET
DTSTART:20251026T010000
END:STANDARD
BEGIN:DAYLIGHT
TZOFFSETFROM:+0100
TZOFFSETTO:+0200
TZNAME:CEST
DTSTART:20260329T010000
END:DAYLIGHT
BEGIN:STANDARD
TZOFFSETFROM:+0200
TZOFFSETTO:+0100
TZNAME:CET
DTSTART:20261025T010000
END:STANDARD
END:VTIMEZONE
BEGIN:VEVENT
DTSTART;TZID=Europe/Berlin:20250508T183000
DTEND;TZID=Europe/Berlin:20250508T210000
DTSTAMP:20260424T001747
CREATED:20250504T121122Z
LAST-MODIFIED:20250507T132704Z
UID:21065-1746729000-1746738000@www.dorfnews-wetteraukreis.de
SUMMARY:Boccia Saisonstart am Donnerstag\, 8.Mai
DESCRIPTION:Liebe Boccia- Freunde\, \nEs ist wieder soweit. Am Donnerstag\, 8. Mai startet die diesjährige Boccia-Saison\, wie Ute Stengel\, Vorsitzende der CDU Ostheim bekannt gibt. Beginn ist um 18:30 Uhr im Dorfpark von Ostheim. Gespielt wird bis zur Dunkelheit in offenen Klein-Gruppen nach Ostheimer Boccia-Regeln. Für Getränke und leichte Speisen wird gesorgt sein. Bei Regen findet Boccia nicht statt. \nEs steht hier der Spaß im Vordergrund sowie Austausch untereinander. Und wir freuen uns immer über neue Mitspieler:Innen. \nBoccia wird in den Monaten Mai bis September 1x im Monat im Dorfpark von Ostheim gespielt. Die weiteren Termine sind: 8.Mai\, 12. Juni\, 10. Juli\, 14. August und 4. September. \n  \n  \n 
URL:https://www.dorfnews-wetteraukreis.de/event/boccia-saisonstart-am-donnerstag-8-mai/
LOCATION:Dorfpark Ostheim
ATTACH;FMTTYPE=image/jpeg:https://www.dorfnews-wetteraukreis.de/wp-content/uploads/sites/377/2025/05/Ostheim-Boccia-1-e1746361054294.jpg
END:VEVENT
BEGIN:VEVENT
DTSTART;TZID=Europe/Berlin:20250430T173000
DTEND;TZID=Europe/Berlin:20250430T220000
DTSTAMP:20260424T001747
CREATED:20250423T112445Z
LAST-MODIFIED:20250423T112445Z
UID:20824-1746034200-1746050400@www.dorfnews-wetteraukreis.de
SUMMARY:Lindenfest 2025
DESCRIPTION:Feiert mit uns in den Mai! \nAm Mittwoch\, den 30. April 2025\, ab 17:30 Uhr im Dorfpark Ostheim \nEin Fest für die ganze Familie – organisiert vom TSV Ostheim und der Freiwilligen Feuerwehr Ostheim \nKommt vorbei und feiert mit uns unter der Linde!
URL:https://www.dorfnews-wetteraukreis.de/event/lindenfest-2025/
LOCATION:Dorfpark Ostheim
END:VEVENT
END:VCALENDAR