BEGIN:VCALENDAR
VERSION:2.0
PRODID:-//DorfNews Wetteraukreis - ECPv6.15.20//NONSGML v1.0//EN
CALSCALE:GREGORIAN
METHOD:PUBLISH
X-WR-CALNAME:DorfNews Wetteraukreis
X-ORIGINAL-URL:https://www.dorfnews-wetteraukreis.de
X-WR-CALDESC:Veranstaltungen im DorfNews Wetteraukreis
REFRESH-INTERVAL;VALUE=DURATION:PT1H
X-Robots-Tag:noindex
X-PUBLISHED-TTL:PT1H
BEGIN:VTIMEZONE
TZID:Europe/Berlin
BEGIN:DAYLIGHT
TZOFFSETFROM:+0100
TZOFFSETTO:+0200
TZNAME:CEST
DTSTART:20240331T010000
END:DAYLIGHT
BEGIN:STANDARD
TZOFFSETFROM:+0200
TZOFFSETTO:+0100
TZNAME:CET
DTSTART:20241027T010000
END:STANDARD
BEGIN:DAYLIGHT
TZOFFSETFROM:+0100
TZOFFSETTO:+0200
TZNAME:CEST
DTSTART:20250330T010000
END:DAYLIGHT
BEGIN:STANDARD
TZOFFSETFROM:+0200
TZOFFSETTO:+0100
TZNAME:CET
DTSTART:20251026T010000
END:STANDARD
BEGIN:DAYLIGHT
TZOFFSETFROM:+0100
TZOFFSETTO:+0200
TZNAME:CEST
DTSTART:20260329T010000
END:DAYLIGHT
BEGIN:STANDARD
TZOFFSETFROM:+0200
TZOFFSETTO:+0100
TZNAME:CET
DTSTART:20261025T010000
END:STANDARD
BEGIN:DAYLIGHT
TZOFFSETFROM:+0100
TZOFFSETTO:+0200
TZNAME:CEST
DTSTART:20270328T010000
END:DAYLIGHT
BEGIN:STANDARD
TZOFFSETFROM:+0200
TZOFFSETTO:+0100
TZNAME:CET
DTSTART:20271031T010000
END:STANDARD
END:VTIMEZONE
BEGIN:VEVENT
DTSTART;TZID=Europe/Berlin:20260412T100000
DTEND;TZID=Europe/Berlin:20260412T160000
DTSTAMP:20260425T000433
CREATED:20260329T093814Z
LAST-MODIFIED:20260407T065127Z
UID:24610-1775988000-1776009600@www.dorfnews-wetteraukreis.de
SUMMARY:Tag der offenen Tür der Feuerwehr Büdingen Ost
DESCRIPTION:Die Feuerwehr Büdingen Ost lädt alle interessierten Bürger zu ihren 1. Tag der offenen Tür im neuem Haus ein.
URL:https://www.dorfnews-wetteraukreis.de/event/tag-der-feuerwehr-der-feuerwehr-buedingen-ost/
LOCATION:Feuerwehrhaus Wolferborn
ATTACH;FMTTYPE=image/jpeg:https://www.dorfnews-wetteraukreis.de/wp-content/uploads/sites/377/2026/03/tag_der-e1774777834607.jpeg
END:VEVENT
BEGIN:VEVENT
DTSTART;TZID=Europe/Berlin:20260403T173000
DTEND;TZID=Europe/Berlin:20260403T233000
DTSTAMP:20260425T000433
CREATED:20260403T153659Z
LAST-MODIFIED:20260403T153659Z
UID:24705-1775237400-1775259000@www.dorfnews-wetteraukreis.de
SUMMARY:E-Dart bei der Feuerwehr Fauerbach
DESCRIPTION:Am 03.04.2026 ist es wieder soweit!Die Feuerwehr lädt euch herzlich zum E-Dart am Karfreitag ein.Kommt vorbei\, zeigt euer Können an der Scheibe und verbringt einen tollen Abend in geselliger Runde. Egal ob Profi oder Hobbyspieler – jeder ist willkommen! Wir freuen uns auf viele Teilnehmer und einen spannenden Wettbewerb! Anmeldung per E-Mail an:verein-fauerbach@feuerwehr-nidda.de
URL:https://www.dorfnews-wetteraukreis.de/event/e-dart-bei-der-feuerwehr-fauerbach/
LOCATION:Feuerwehrhaus Fauerbach\, St.-Floriansweg 1\, Nidda-Fauerbach\, 63667\, Germany
ATTACH;FMTTYPE=image/png:https://www.dorfnews-wetteraukreis.de/wp-content/uploads/sites/377/2026/04/Dart-Turnier_03-04-2026.png
END:VEVENT
BEGIN:VEVENT
DTSTART;TZID=Europe/Berlin:20250907T100000
DTEND;TZID=Europe/Berlin:20250907T170000
DTSTAMP:20260425T000433
CREATED:20250901T175008Z
LAST-MODIFIED:20250901T175141Z
UID:22294-1757239200-1757264400@www.dorfnews-wetteraukreis.de
SUMMARY:Eröffnung Feuerwehr Büdingen Ost
DESCRIPTION:Einweihungsfeier Feuerwehr Büdingen Ost (Michelau\, Rinderbügen & Wolferborn) \nPROGRAMM \nAB 10 UHR: Frühschoppen mit Musikzug und Hausführungen\nAB 13 UHR: Einweihung Feuerwehrhaus und Fahrzeugübergabe LF 10 und Showübung der Jugendfeuerwehr\nAB 13:30 UHR: Besuch unseres hessischen Innenministers Prof. Dr. Roman Poseck
URL:https://www.dorfnews-wetteraukreis.de/event/eroeffnung-feuerwehr-buedingen-ost/
LOCATION:Freiwillige Feuerwehr Büdingen Ost
ATTACH;FMTTYPE=image/jpeg:https://www.dorfnews-wetteraukreis.de/wp-content/uploads/sites/377/2025/09/9b256b6d-a5e2-452c-8a20-9c6854ccbda2.jpeg
END:VEVENT
BEGIN:VEVENT
DTSTART;VALUE=DATE:20250907
DTEND;VALUE=DATE:20250908
DTSTAMP:20260425T000433
CREATED:20250402T044507Z
LAST-MODIFIED:20250902T115940Z
UID:20522-1757203200-1757289599@www.dorfnews-wetteraukreis.de
SUMMARY:Einweihungsfeier neues Feuerwehrhaus in Wolferborn
DESCRIPTION:Die Freiwilligen Feuerwehren Michelau\, Rinderbügen und Wolferborn laden zur offiziellen Einweihungsfeier des neuen Feuerwehrhauses in Wolferborn ein. Im neuen Haus sind alle 3 Feuerwehren unter dem Namen Büdingen Ost vereint.
URL:https://www.dorfnews-wetteraukreis.de/event/einweihungsfeier-neues-feuerwehrhaus-in-wolferborn/
LOCATION:Feuerwehrhaus Wolferborn
END:VEVENT
BEGIN:VEVENT
DTSTART;VALUE=DATE:20250816
DTEND;VALUE=DATE:20250818
DTSTAMP:20260425T000433
CREATED:20250423T163409Z
LAST-MODIFIED:20250423T163409Z
UID:20850-1755302400-1755475199@www.dorfnews-wetteraukreis.de
SUMMARY:Tag der Feuerwehr in Michelau
DESCRIPTION:Am 16. und 17. August 2025 findet der traditionelle Tag der Feuerwehr in Michelau rund um das Feuerwehrhaus und dem Spielplatz statt. Los geht es am Samstag um 18.00 Uhr mit einem Dämmerschoppen mit frisch gezapften Bier vom Fass. Hier können die Besucher sich vom Stress der Woche erholen und gute Gespräche zu führen. \nAb 20.00 Uhr werden wieder langjährige Mitglieder des Vereines Feuerwehr Michelau/MCC geehrt und ausgezeichnet. Am Sonntag geht es ab 10.30 Uhr mit einem Frühschoppen los\, ab 12.00 Uhr gibt es wieder die verschiedenen Schnitzelvarianten aus der berühmten Michelauer Feuerwehr Küche. \nDie Feuerwehr Michelau freut sich über viele Besucher an diesem Wochenende.
URL:https://www.dorfnews-wetteraukreis.de/event/tag-der-feuerwehr-in-michelau/
END:VEVENT
BEGIN:VEVENT
DTSTART;TZID=Europe/Berlin:20250529T120000
DTEND;TZID=Europe/Berlin:20250529T160000
DTSTAMP:20260425T000433
CREATED:20250519T091222Z
LAST-MODIFIED:20250519T091404Z
UID:21248-1748520000-1748534400@www.dorfnews-wetteraukreis.de
SUMMARY:Backhaushaxenessen
DESCRIPTION:Die Freiwillige Feuerwehr Wolferborn lädt recht herzlich ein zum Backhaushaxenessen an Christi Himmelfahrt. \n1 Portion Haxe mit Brot kostet 10\,00 €\nzusätzlich gibt es Steaks und Würstchen vom Grill\, hausgemachten Kraut- und Kartoffelsalat\, Kaffee und Kuchen. \nUm planen zu können\, bitten wir um Bestellung per WhatsApp unter 0170-4828238 oder per Mail unter wadi370@yahoo.de \nWer nicht vor Ort essen möchte\, kann sein Essen abholen. \nAbholer bitte ankreuzen. Mitnahmebehälter bitte mitbringen. \nWir freuen uns auf Euer kommen!
URL:https://www.dorfnews-wetteraukreis.de/event/backhaushaxenessen/
LOCATION:Freiwillige Feuerwehr Wolferborn Gerätehaus
END:VEVENT
END:VCALENDAR