BEGIN:VCALENDAR
VERSION:2.0
PRODID:-//DorfNews Wetteraukreis - ECPv6.15.20//NONSGML v1.0//EN
CALSCALE:GREGORIAN
METHOD:PUBLISH
X-ORIGINAL-URL:https://www.dorfnews-wetteraukreis.de
X-WR-CALDESC:Veranstaltungen im DorfNews Wetteraukreis
REFRESH-INTERVAL;VALUE=DURATION:PT1H
X-Robots-Tag:noindex
X-PUBLISHED-TTL:PT1H
BEGIN:VTIMEZONE
TZID:Europe/Berlin
BEGIN:DAYLIGHT
TZOFFSETFROM:+0100
TZOFFSETTO:+0200
TZNAME:CEST
DTSTART:20250330T010000
END:DAYLIGHT
BEGIN:STANDARD
TZOFFSETFROM:+0200
TZOFFSETTO:+0100
TZNAME:CET
DTSTART:20251026T010000
END:STANDARD
BEGIN:DAYLIGHT
TZOFFSETFROM:+0100
TZOFFSETTO:+0200
TZNAME:CEST
DTSTART:20260329T010000
END:DAYLIGHT
BEGIN:STANDARD
TZOFFSETFROM:+0200
TZOFFSETTO:+0100
TZNAME:CET
DTSTART:20261025T010000
END:STANDARD
BEGIN:DAYLIGHT
TZOFFSETFROM:+0100
TZOFFSETTO:+0200
TZNAME:CEST
DTSTART:20270328T010000
END:DAYLIGHT
BEGIN:STANDARD
TZOFFSETFROM:+0200
TZOFFSETTO:+0100
TZNAME:CET
DTSTART:20271031T010000
END:STANDARD
END:VTIMEZONE
BEGIN:VEVENT
DTSTART;TZID=Europe/Berlin:20260426T100000
DTEND;TZID=Europe/Berlin:20260426T150000
DTSTAMP:20260423T132702
CREATED:20260120T071408Z
LAST-MODIFIED:20260120T071408Z
UID:23856-1777197600-1777215600@www.dorfnews-wetteraukreis.de
SUMMARY:7. Dorfflohmarkt -dieses Jahr im April!
DESCRIPTION:Am Sonntag\, den 26.04. findet wieder unser Dorfflohmarkt statt. Weitere Informationen zur Anmeldung erhaltet ihr in Kürze\, dazu werden Infozettel in jeden Briefkasten verteilt. \nAnmeldungen mit Name und Adresse sind ab jetzt möglich unter:  hw.hofflohmarkt@web.de
URL:https://www.dorfnews-wetteraukreis.de/event/7-dorfflohmarkt-dieses-jahr-im-april/
LOCATION:Hoch-Weisel
CATEGORIES:Freizeit
ATTACH;FMTTYPE=image/png:https://www.dorfnews-wetteraukreis.de/wp-content/uploads/sites/377/2026/01/Kopf.png
END:VEVENT
END:VCALENDAR