BEGIN:VCALENDAR
VERSION:2.0
PRODID:-//DorfNews Wetteraukreis - ECPv6.15.20//NONSGML v1.0//EN
CALSCALE:GREGORIAN
METHOD:PUBLISH
X-ORIGINAL-URL:https://www.dorfnews-wetteraukreis.de
X-WR-CALDESC:Veranstaltungen im DorfNews Wetteraukreis
REFRESH-INTERVAL;VALUE=DURATION:PT1H
X-Robots-Tag:noindex
X-PUBLISHED-TTL:PT1H
BEGIN:VTIMEZONE
TZID:Europe/Berlin
BEGIN:DAYLIGHT
TZOFFSETFROM:+0100
TZOFFSETTO:+0200
TZNAME:CEST
DTSTART:20240331T010000
END:DAYLIGHT
BEGIN:STANDARD
TZOFFSETFROM:+0200
TZOFFSETTO:+0100
TZNAME:CET
DTSTART:20241027T010000
END:STANDARD
BEGIN:DAYLIGHT
TZOFFSETFROM:+0100
TZOFFSETTO:+0200
TZNAME:CEST
DTSTART:20250330T010000
END:DAYLIGHT
BEGIN:STANDARD
TZOFFSETFROM:+0200
TZOFFSETTO:+0100
TZNAME:CET
DTSTART:20251026T010000
END:STANDARD
BEGIN:DAYLIGHT
TZOFFSETFROM:+0100
TZOFFSETTO:+0200
TZNAME:CEST
DTSTART:20260329T010000
END:DAYLIGHT
BEGIN:STANDARD
TZOFFSETFROM:+0200
TZOFFSETTO:+0100
TZNAME:CET
DTSTART:20261025T010000
END:STANDARD
END:VTIMEZONE
BEGIN:VEVENT
DTSTART;TZID=Europe/Berlin:20250609T100000
DTEND;TZID=Europe/Berlin:20250609T153000
DTSTAMP:20260424T022746
CREATED:20250515T114817Z
LAST-MODIFIED:20250515T114817Z
UID:21212-1749463200-1749483000@www.dorfnews-wetteraukreis.de
SUMMARY:JSG Tag
DESCRIPTION:Die Trainer\, Vorstände der neuen JSG Rot-Schwarz Wetterau und die Vereine JSG ROT-SCHWARZ\, TV 08 Kefenrod\, VfR Wenings\, SG Wolferborn\, SG Bindsachsen\, KSG Hettersroth/Hitzkirchen\, FCA Gedern inkl. SV Merkenfritz \nladen zum JSG-Tag der neuen Jugendspielgemeinschaft ein. \nAn diesem Tag wollen wir euch die Idee dieser neugegründeten JSG und die einzelnen Trainer vorstellen und näherbringen. Zusätzlich werden Trainingsspiele / Turniere für die Kids auf den beiden Sportplätzen stattfinden. Der genaue Ablaufplan ist unten ersichtlich. Für das leibliche Wohl ist gesorgt\, es gibt Steaks\, Bratwurst und Pommes. Für jegliche Kuchenspende stehen wir offen und dankbar gegenüber. Wendet euch dafür bitte an eure Trainer der jeweiligen Mannschaften. \nWir würden uns sehr freuen\, mit Euch und Euren Familien\, sowie allen Interessierten & Gönnern\, einen unvergesslichen Tag zu verbingen und erfolgreich in eine langfristige und neue Ara zu starten.
URL:https://www.dorfnews-wetteraukreis.de/event/jsg-tag/
LOCATION:Sportplatz Gedern
END:VEVENT
END:VCALENDAR