BEGIN:VCALENDAR
VERSION:2.0
PRODID:-//DorfNews Wetteraukreis - ECPv6.15.20//NONSGML v1.0//EN
CALSCALE:GREGORIAN
METHOD:PUBLISH
X-ORIGINAL-URL:https://www.dorfnews-wetteraukreis.de
X-WR-CALDESC:Veranstaltungen im DorfNews Wetteraukreis
REFRESH-INTERVAL;VALUE=DURATION:PT1H
X-Robots-Tag:noindex
X-PUBLISHED-TTL:PT1H
BEGIN:VTIMEZONE
TZID:Europe/Berlin
BEGIN:DAYLIGHT
TZOFFSETFROM:+0100
TZOFFSETTO:+0200
TZNAME:CEST
DTSTART:20240331T010000
END:DAYLIGHT
BEGIN:STANDARD
TZOFFSETFROM:+0200
TZOFFSETTO:+0100
TZNAME:CET
DTSTART:20241027T010000
END:STANDARD
BEGIN:DAYLIGHT
TZOFFSETFROM:+0100
TZOFFSETTO:+0200
TZNAME:CEST
DTSTART:20250330T010000
END:DAYLIGHT
BEGIN:STANDARD
TZOFFSETFROM:+0200
TZOFFSETTO:+0100
TZNAME:CET
DTSTART:20251026T010000
END:STANDARD
BEGIN:DAYLIGHT
TZOFFSETFROM:+0100
TZOFFSETTO:+0200
TZNAME:CEST
DTSTART:20260329T010000
END:DAYLIGHT
BEGIN:STANDARD
TZOFFSETFROM:+0200
TZOFFSETTO:+0100
TZNAME:CET
DTSTART:20261025T010000
END:STANDARD
END:VTIMEZONE
BEGIN:VEVENT
DTSTART;TZID=Europe/Berlin:20251001T193000
DTEND;TZID=Europe/Berlin:20251001T213000
DTSTAMP:20260423T211944
CREATED:20250818T193850Z
LAST-MODIFIED:20250818T193850Z
UID:22214-1759347000-1759354200@www.dorfnews-wetteraukreis.de
SUMMARY:2. Mannschaft SG WoMiBi - SG Rohrbach/Aulen.2
DESCRIPTION:In der Zeit vom 01.08. – 02.10.2025 werden die Heimspiele der Dreierspielgemeinschaft in Wolferborn ausgetragen. \nDer verjüngte Kader der Spielgemeinschaft würde sich über die Unterstützung von zahlreichen Zuschauern sehr freuen.
URL:https://www.dorfnews-wetteraukreis.de/event/2-mannschaft-sg-womibi-sg-rohrbach-aulen-2/
LOCATION:Sportplatz Wolferborn\, An der großen Wiese\, 63654 Büdingen-Wolferborn
END:VEVENT
BEGIN:VEVENT
DTSTART;TZID=Europe/Berlin:20251002T193000
DTEND;TZID=Europe/Berlin:20251002T213000
DTSTAMP:20260423T211944
CREATED:20250818T194025Z
LAST-MODIFIED:20250818T194025Z
UID:22216-1759433400-1759440600@www.dorfnews-wetteraukreis.de
SUMMARY:1.Mannschaft SG WoMiBi - SG Rohrbach/Aulen.
DESCRIPTION:In der Zeit vom 01.08. – 02.10.2025 werden die Heimspiele der Dreierspielgemeinschaft in Wolferborn ausgetragen. \nDer verjüngte Kader der Spielgemeinschaft würde sich über die Unterstützung von zahlreichen Zuschauern sehr freuen.
URL:https://www.dorfnews-wetteraukreis.de/event/1-mannschaft-sg-womibi-sg-rohrbach-aulen/
LOCATION:Sportplatz Wolferborn\, An der großen Wiese\, 63654 Büdingen-Wolferborn
END:VEVENT
END:VCALENDAR