BEGIN:VCALENDAR
VERSION:2.0
PRODID:-//DorfNews Wetteraukreis - ECPv6.15.20//NONSGML v1.0//EN
CALSCALE:GREGORIAN
METHOD:PUBLISH
X-WR-CALNAME:DorfNews Wetteraukreis
X-ORIGINAL-URL:https://www.dorfnews-wetteraukreis.de
X-WR-CALDESC:Veranstaltungen im DorfNews Wetteraukreis
REFRESH-INTERVAL;VALUE=DURATION:PT1H
X-Robots-Tag:noindex
X-PUBLISHED-TTL:PT1H
BEGIN:VTIMEZONE
TZID:Europe/Berlin
BEGIN:DAYLIGHT
TZOFFSETFROM:+0100
TZOFFSETTO:+0200
TZNAME:CEST
DTSTART:20250330T010000
END:DAYLIGHT
BEGIN:STANDARD
TZOFFSETFROM:+0200
TZOFFSETTO:+0100
TZNAME:CET
DTSTART:20251026T010000
END:STANDARD
BEGIN:DAYLIGHT
TZOFFSETFROM:+0100
TZOFFSETTO:+0200
TZNAME:CEST
DTSTART:20260329T010000
END:DAYLIGHT
BEGIN:STANDARD
TZOFFSETFROM:+0200
TZOFFSETTO:+0100
TZNAME:CET
DTSTART:20261025T010000
END:STANDARD
BEGIN:DAYLIGHT
TZOFFSETFROM:+0100
TZOFFSETTO:+0200
TZNAME:CEST
DTSTART:20270328T010000
END:DAYLIGHT
BEGIN:STANDARD
TZOFFSETFROM:+0200
TZOFFSETTO:+0100
TZNAME:CET
DTSTART:20271031T010000
END:STANDARD
END:VTIMEZONE
BEGIN:VEVENT
DTSTART;TZID=Europe/Berlin:20260504T173000
DTEND;TZID=Europe/Berlin:20260504T200000
DTSTAMP:20260422T193532
CREATED:20260422T104328Z
LAST-MODIFIED:20260422T104328Z
UID:24852-1777915800-1777924800@www.dorfnews-wetteraukreis.de
SUMMARY:Gemeinnützigkeitsrecht - Ein Einführungs- und Grundlagenseminar
DESCRIPTION:Die überwiegende Zahl der Vereine in Deutschland ist gemeinnützig\, sodass ihr Verhalten und ihre Ziele dem Allgemeinwohl dienen. Vor diesem Hintergrund sind Voraussetzungen für die Gemeinnützigkeit festgelegt. Um diesen Status nicht zu verlieren\, ist es gerade für Vereinsvorstände unverzichtbar\, sensibilisiert zu werden\, um den Verein rechtssicher zu vertreten. In diesem Grundlagenseminar lernen Sie die rechtlichen und steuerlichen Besonderheiten gemeinnütziger Vereine nach aktueller Rechtsprechung kennen. Menschen\, die neu im Ehrenamt tätig sind\, soll der Start und der Umgang mit den komplexen steuerlichen Vorschriften erleichtert werden.\n\nInhalte im Überblick: \n\nKurzüberblick über die Rechtsform Verein (e.V.)\nGrundlagen des Gemeinnützigkeitsrechts (Ausschließlichkeit\, Unmittelbarkeit und Selbstlosigkeit)\nAnforderungen an die Satzungsgestaltung\n\nDieses Seminar ersetzt keine individuelle Rechts- bzw. Vereinsberatung. Empfohlen für Einsteiger:innen. Vorkenntnisse sind nicht erforderlich. \nDie Teilnahme an diesem Fortbildungslehrgang wird für die Verlängerung der folgenden DOSB-Lizenzen des Landessportbundes Hessen\, der Sportjugend Hessen und des Hessischen Fußball-Verbandes mit 3 Lerneinheiten (LE) anerkannt:\n\nVereinsmanager:in C und Vereinsmanager:in B (VM)\nJugendleiter:in (JL)\nVereinsmanagement HFV
URL:https://www.dorfnews-wetteraukreis.de/event/gemeinnuetzigkeitsrecht-ein-einfuehrungs-und-grundlagenseminar-2/
LOCATION:Online
CATEGORIES:Bildung
ORGANIZER;CN="Bildungsakademie des Landessportbundes Hessen e.V.":MAILTO:imazzanti-kaiser@sport-erlebnisse.de
END:VEVENT
END:VCALENDAR