BEGIN:VCALENDAR
VERSION:2.0
PRODID:-//DorfNews Wetteraukreis - ECPv6.15.20//NONSGML v1.0//EN
CALSCALE:GREGORIAN
METHOD:PUBLISH
X-WR-CALNAME:DorfNews Wetteraukreis
X-ORIGINAL-URL:https://www.dorfnews-wetteraukreis.de
X-WR-CALDESC:Veranstaltungen im DorfNews Wetteraukreis
REFRESH-INTERVAL;VALUE=DURATION:PT1H
X-Robots-Tag:noindex
X-PUBLISHED-TTL:PT1H
BEGIN:VTIMEZONE
TZID:Europe/Berlin
BEGIN:DAYLIGHT
TZOFFSETFROM:+0100
TZOFFSETTO:+0200
TZNAME:CEST
DTSTART:20230326T010000
END:DAYLIGHT
BEGIN:STANDARD
TZOFFSETFROM:+0200
TZOFFSETTO:+0100
TZNAME:CET
DTSTART:20231029T010000
END:STANDARD
BEGIN:DAYLIGHT
TZOFFSETFROM:+0100
TZOFFSETTO:+0200
TZNAME:CEST
DTSTART:20240331T010000
END:DAYLIGHT
BEGIN:STANDARD
TZOFFSETFROM:+0200
TZOFFSETTO:+0100
TZNAME:CET
DTSTART:20241027T010000
END:STANDARD
BEGIN:DAYLIGHT
TZOFFSETFROM:+0100
TZOFFSETTO:+0200
TZNAME:CEST
DTSTART:20250330T010000
END:DAYLIGHT
BEGIN:STANDARD
TZOFFSETFROM:+0200
TZOFFSETTO:+0100
TZNAME:CET
DTSTART:20251026T010000
END:STANDARD
END:VTIMEZONE
BEGIN:VEVENT
DTSTART;TZID=Europe/Berlin:20240725T180000
DTEND;TZID=Europe/Berlin:20240725T200000
DTSTAMP:20260423T215730
CREATED:20240711T100020Z
LAST-MODIFIED:20240703T112710Z
UID:18595-1721930400-1721937600@www.dorfnews-wetteraukreis.de
SUMMARY:Social Media Summer School: KI – Tools und erste Schritte. 
DESCRIPTION:Künstliche Intelligenz verbreitet sich derzeit immer mehr. Vor allem das Tool „ChatGPT“ = „Chatbot Generative Pre-trained Transformer“ ist derzeit in aller Munde. Bei dem Tool können die Nutzer über Texteingabe mit dem Computer menschenähnlich kommunizieren. Der ChatBot lernt sogar von dieser Unterhaltung. Außerdem kann es Fragen beantworten und komplexe Texte für beispielsweise Referate erfassen. \n\n\nDoch wie funktioniert KI überhaupt\, welche Tools gibt es und wie setze ich sie sinnvoll ein? \n\n\nIm Rahmen der Social Media Summer School findet am Donnerstag\, 25. Juli 2024 um 18.00 Uhr ein Online-Seminar mit Christian Rasch\, WordPress- und Google-Experte\, statt. \n\nFolgende Themen beinhaltet das Seminar: \n\n\nKI verständlich erklärt: Was ist KI? Wie funktioniert sie? Welche Anwendungsbereiche gibt es?\nKI-Systeme im Überblick: Verschiedene Arten von KI-Systemen und ihre Einsatzmöglichkeiten\nKI in der Praxis: Spannende Beispiele aus unterschiedlichen Branchen\nKI für Ihr Unternehmen: Identifizierung von KI- Potenzialen in Ihrem Unternehmen\nErste Schritte mit KI: Praktische Übungen und Anwendungsmöglichkeiten\nKI und die Zukunft: Ethische Aspekte und die Auswirkungen von KI auf die Gesellschaft\n\n\n\n\n\n\n\nDas Seminar findet im Rahmen der Social Media Summer School und nur online via Zoom statt. \n\n\n\n\nhttps://unionstiftung-de.zoom.us/j/81328334344\nMeeting-ID: 813 283 343 44
URL:https://www.dorfnews-wetteraukreis.de/event/social-media-summer-school-ki-tools-und-erste-schritte/
LOCATION:Online
ORGANIZER;CN="Union Stiftung":MAILTO:info@unionstiftung.de
END:VEVENT
END:VCALENDAR