BEGIN:VCALENDAR
VERSION:2.0
PRODID:-//DorfNews Wetteraukreis - ECPv6.15.20//NONSGML v1.0//EN
CALSCALE:GREGORIAN
METHOD:PUBLISH
X-ORIGINAL-URL:https://www.dorfnews-wetteraukreis.de
X-WR-CALDESC:Veranstaltungen im DorfNews Wetteraukreis
REFRESH-INTERVAL;VALUE=DURATION:PT1H
X-Robots-Tag:noindex
X-PUBLISHED-TTL:PT1H
BEGIN:VTIMEZONE
TZID:Europe/Berlin
BEGIN:DAYLIGHT
TZOFFSETFROM:+0100
TZOFFSETTO:+0200
TZNAME:CEST
DTSTART:20240331T010000
END:DAYLIGHT
BEGIN:STANDARD
TZOFFSETFROM:+0200
TZOFFSETTO:+0100
TZNAME:CET
DTSTART:20241027T010000
END:STANDARD
BEGIN:DAYLIGHT
TZOFFSETFROM:+0100
TZOFFSETTO:+0200
TZNAME:CEST
DTSTART:20250330T010000
END:DAYLIGHT
BEGIN:STANDARD
TZOFFSETFROM:+0200
TZOFFSETTO:+0100
TZNAME:CET
DTSTART:20251026T010000
END:STANDARD
BEGIN:DAYLIGHT
TZOFFSETFROM:+0100
TZOFFSETTO:+0200
TZNAME:CEST
DTSTART:20260329T010000
END:DAYLIGHT
BEGIN:STANDARD
TZOFFSETFROM:+0200
TZOFFSETTO:+0100
TZNAME:CET
DTSTART:20261025T010000
END:STANDARD
END:VTIMEZONE
BEGIN:VEVENT
DTSTART;TZID=Europe/Berlin:20250506T110000
DTEND;TZID=Europe/Berlin:20250506T120000
DTSTAMP:20260423T072231
CREATED:20250429T054703Z
LAST-MODIFIED:20250429T054703Z
UID:20959-1746529200-1746532800@www.dorfnews-wetteraukreis.de
SUMMARY:Freiwillige vor! Freiwilligenkoordination durch KI erleichtern
DESCRIPTION:Zivilgesellschaftliche Organisationen sind davon geprägt\, dass sich Menschen ehrenamtlich engagieren. Eine Voraussetzung dafür ist\, dass die Freiwilligen begleitet und betreut werden und sie gute Rahmenbedingungen für ihr Engagement vorfinden. Die ist eine wichtige und auch zeitintensive Arbeit. \nIn diesem Webinar wird gezeigt\, wie Künstliche Intelligenz die Arbeit in der Freiwilligenkoordination unterstützen und reduzieren kann. Sie erhalten Impulse wie KI-basierte Tools\, Sie bei den Aufgaben wie der Gewinnung von Freiwilligen\, Planung von Einsätzen\, der Kommunikation mit Freiwilligen\, Qualifizierung und bei administrativen Tätigkeiten unterstützen können. \nInhalte: \n\nKurzeinführung in KI\nKurzeinführung in das Riesenrad-Modell der Freiwilligenkoordination\nAnwendungsbeispiele von KI in der Freiwilligenkoordination
URL:https://www.dorfnews-wetteraukreis.de/event/freiwillige-vor-freiwilligenkoordination-durch-ki-erleichtern/
LOCATION:Online
ORGANIZER;CN="Haus des Stiftens gGmbH":MAILTO:muenchen@hausdesstiftens.org
END:VEVENT
BEGIN:VEVENT
DTSTART;TZID=Europe/Berlin:20250514T180000
DTEND;TZID=Europe/Berlin:20250514T200000
DTSTAMP:20260423T072231
CREATED:20250429T120037Z
LAST-MODIFIED:20250429T120037Z
UID:21009-1747245600-1747252800@www.dorfnews-wetteraukreis.de
SUMMARY:Datenschutz im Ehrenamt: KI und Datenschutz – Herausforderungen und Lösungsansätze
DESCRIPTION:Datenschutz und KI – geht das überhaupt? Ganz ehrlich: Völlig datenschutzkonform mit KI-Tools wie LLM-Chatbots zu arbeiten\, ist in den meisten Fällen sehr aufwändig. Doch es gibt Möglichkeiten\, sich diesem Ideal mit überschaubarem Aufwand anzunähern. \nIn dieser Veranstaltung erfahrt ihr\, welche Anforderungen beim Einsatz von KI-Tools gelten\, wo die größten Fallstricke lauern und warum Datenschutz in diesem Bereich oft eine Herausforderung ist. Gleichzeitig zeigen wir euch bewährte Best Practices\, mit denen ihr KI möglichst datenschutzfreundlich nutzen könnt. Dabei werfen wir auch einen Blick auf neue rechtliche Entwicklungen\, insbesondere auf die KI-Verordnung. \nFreut euch auf Einblicke aus der Praxis\, wertvolle Tipps und die Möglichkeit\, eure Fragen zu stellen.
URL:https://www.dorfnews-wetteraukreis.de/event/datenschutz-im-ehrenamt-ki-und-datenschutz-herausforderungen-und-loesungsansaetze/
LOCATION:Online
END:VEVENT
END:VCALENDAR