BEGIN:VCALENDAR
VERSION:2.0
PRODID:-//DorfNews Wetteraukreis - ECPv6.15.20//NONSGML v1.0//EN
CALSCALE:GREGORIAN
METHOD:PUBLISH
X-ORIGINAL-URL:https://www.dorfnews-wetteraukreis.de
X-WR-CALDESC:Veranstaltungen im DorfNews Wetteraukreis
REFRESH-INTERVAL;VALUE=DURATION:PT1H
X-Robots-Tag:noindex
X-PUBLISHED-TTL:PT1H
BEGIN:VTIMEZONE
TZID:Europe/Berlin
BEGIN:DAYLIGHT
TZOFFSETFROM:+0100
TZOFFSETTO:+0200
TZNAME:CEST
DTSTART:20240331T010000
END:DAYLIGHT
BEGIN:STANDARD
TZOFFSETFROM:+0200
TZOFFSETTO:+0100
TZNAME:CET
DTSTART:20241027T010000
END:STANDARD
BEGIN:DAYLIGHT
TZOFFSETFROM:+0100
TZOFFSETTO:+0200
TZNAME:CEST
DTSTART:20250330T010000
END:DAYLIGHT
BEGIN:STANDARD
TZOFFSETFROM:+0200
TZOFFSETTO:+0100
TZNAME:CET
DTSTART:20251026T010000
END:STANDARD
BEGIN:DAYLIGHT
TZOFFSETFROM:+0100
TZOFFSETTO:+0200
TZNAME:CEST
DTSTART:20260329T010000
END:DAYLIGHT
BEGIN:STANDARD
TZOFFSETFROM:+0200
TZOFFSETTO:+0100
TZNAME:CET
DTSTART:20261025T010000
END:STANDARD
END:VTIMEZONE
BEGIN:VEVENT
DTSTART;TZID=Europe/Berlin:20250703T110000
DTEND;TZID=Europe/Berlin:20250703T120000
DTSTAMP:20260423T043200
CREATED:20250626T100906Z
LAST-MODIFIED:20250626T100906Z
UID:21641-1751540400-1751544000@www.dorfnews-wetteraukreis.de
SUMMARY:Effiziente Datenverwaltung im Fundraising mit KI
DESCRIPTION:Daten sind der Schlüssel zu erfolgreichem Fundraising – doch ihr Potenzial bleibt häufig ungenutzt. In diesem Webinar erfahren Sie\, wie Sie KI gezielt einsetzen\, um Spenderdaten effizient zu verwalten und Ihre Fundraising-Strategien wirkungsvoll zu verbessern. Von der Datenaktualisierung in Echtzeit über personalisierte Ansprache bis zur Automatisierung komplexer Prozesse – wir zeigen Ihnen praxisnahe Anwendungen\, die Sie direkt in Ihrem Arbeitsalltag umsetzen können. \nInhalte:\n\nDatenintegration & 360°-Spender:innenprofile: Ein umfassender Blick auf Ihre Unterstützer:innen\nAutomatisierung von Fundraising-Prozessen: Weniger Aufwand\, mehr Wirkung\nTrigger für Fundraising-Kampagnen: Automatisierte Auslöser für gezielte Spendenaufrufe\nDaten- & Datenschutzmanagement: Effizienz und Sicherheit in Einklang bringen\nTools im Fokus: FundraisingBox und Apteco
URL:https://www.dorfnews-wetteraukreis.de/event/effiziente-datenverwaltung-im-fundraising-mit-ki/
LOCATION:Online
ORGANIZER;CN="Haus des Stiftens gGmbH":MAILTO:muenchen@hausdesstiftens.org
END:VEVENT
BEGIN:VEVENT
DTSTART;TZID=Europe/Berlin:20250731T180000
DTEND;TZID=Europe/Berlin:20250731T200000
DTSTAMP:20260423T043200
CREATED:20250710T102808Z
LAST-MODIFIED:20250626T103001Z
UID:21665-1753984800-1753992000@www.dorfnews-wetteraukreis.de
SUMMARY:Erfolgreich posten mit KI
DESCRIPTION:Social Media kostet Zeit – vor allem die Erstellung von Inhalten. Doch mit Künstlicher Intelligenz lassen sich viele Aufgaben vereinfachen\, automatisieren und professionell umsetzen. In diesem Online-Workshop zeigen Dir Dima & Colin (bekannt von Kaskyyontherun)\, wie Du KI-Tools gezielt nutzen kannst\, um Beiträge schneller\, kreativer und effizienter zu erstellen – ganz ohne technisches Vorwissen. \nDie Teilnehmenden lernen praxiserprobte\, kostenlose Tools kennen\, mit denen Texte geschrieben\, Untertitel automatisch erstellt\, Bilder generiert und Ideen entwickelt werden können. Der Fokus liegt auf konkreten Anwendungsbeispielen\, die Du direkt in Deinem Vereinsalltag einsetzen kannst – von der Planung bis zur Veröffentlichung. \nDas erwartet Dich:\n– Was KI heute schon kann – und wie Du davon profitierst\n– Tools für automatische Untertitel\, Textformulierung\, Bildbearbeitung u. v. m.\n– KI-gestützte Recherche und einfache Skript-Erstellung\n– Mehr Output in weniger Zeit: effizientere Abläufe für Deinen Content\n– Ein Ausblick: Wohin entwickelt sich KI in der Content-Erstellung?
URL:https://www.dorfnews-wetteraukreis.de/event/erfolgreich-posten-mit-ki/
LOCATION:Online
ORGANIZER;CN="Union Stiftung":MAILTO:info@unionstiftung.de
END:VEVENT
END:VCALENDAR