BEGIN:VCALENDAR
VERSION:2.0
PRODID:-//DorfNews Wetteraukreis - ECPv6.15.20//NONSGML v1.0//EN
CALSCALE:GREGORIAN
METHOD:PUBLISH
X-WR-CALNAME:DorfNews Wetteraukreis
X-ORIGINAL-URL:https://www.dorfnews-wetteraukreis.de
X-WR-CALDESC:Veranstaltungen im DorfNews Wetteraukreis
REFRESH-INTERVAL;VALUE=DURATION:PT1H
X-Robots-Tag:noindex
X-PUBLISHED-TTL:PT1H
BEGIN:VTIMEZONE
TZID:Europe/Berlin
BEGIN:DAYLIGHT
TZOFFSETFROM:+0100
TZOFFSETTO:+0200
TZNAME:CEST
DTSTART:20240331T010000
END:DAYLIGHT
BEGIN:STANDARD
TZOFFSETFROM:+0200
TZOFFSETTO:+0100
TZNAME:CET
DTSTART:20241027T010000
END:STANDARD
BEGIN:DAYLIGHT
TZOFFSETFROM:+0100
TZOFFSETTO:+0200
TZNAME:CEST
DTSTART:20250330T010000
END:DAYLIGHT
BEGIN:STANDARD
TZOFFSETFROM:+0200
TZOFFSETTO:+0100
TZNAME:CET
DTSTART:20251026T010000
END:STANDARD
BEGIN:DAYLIGHT
TZOFFSETFROM:+0100
TZOFFSETTO:+0200
TZNAME:CEST
DTSTART:20260329T010000
END:DAYLIGHT
BEGIN:STANDARD
TZOFFSETFROM:+0200
TZOFFSETTO:+0100
TZNAME:CET
DTSTART:20261025T010000
END:STANDARD
END:VTIMEZONE
BEGIN:VEVENT
DTSTART;TZID=Europe/Berlin:20250812T180000
DTEND;TZID=Europe/Berlin:20250812T200000
DTSTAMP:20260423T031541
CREATED:20250729T084514Z
LAST-MODIFIED:20250729T084514Z
UID:22042-1755021600-1755028800@www.dorfnews-wetteraukreis.de
SUMMARY:KI für Vereine
DESCRIPTION:Ob Newsletter\, Reden\, Social-Media-Posts oder Projektplanung – Künstliche Intelligenz kann die Vereinsarbeit deutlich erleichtern. In diesem Online-Seminar zeigt Dir Tobias Scheid\, wie Du ChatGPT gezielt einsetzen kannst\, um Deine Kommunikation zu verbessern\, Abläufe zu vereinfachen und neue Impulse in Deine Vereinsarbeit zu bringen. \nDu erhältst einen Einblick in die Möglichkeiten\, die KI-gestützte Tools wie ChatGPT bieten – auch ohne technisches Vorwissen. Gemeinsam schauen wir uns an\, wie Du mit ChatGPT Texte erstellst\, Inhalte vorbereitest\, Ideen entwickelst und Entscheidungen fundierter treffen kannst. \nDas erwartet Dich: \n\nWas ist ChatGPT – und wie funktioniert es ganz praktisch?\nTexte für Website\, Newsletter oder Mitgliederrundmails ganz einfach erstellen\nUnterstützung bei Reden\, Konzepten oder Veranstaltungsplanung\nChatGPT als Ideengeber und Organisationshilfe im Vereinsalltag\nWie KI bei Entscheidungen helfen kann – von der Analyse bis zur Argumentation\n\nReferent:\nTobias Scheid ist Online-Unternehmer und KI-Experte. Mit einem klaren Blick für Praxisnähe zeigt er\, wie Vereine moderne Tools sinnvoll und einfach nutzen können. \nDatum und Zeit: Dienstag\, 12. August 2025\, 18:00 \nOrt: Online via Zoom
URL:https://www.dorfnews-wetteraukreis.de/event/ki-fuer-vereine/
LOCATION:Online
ORGANIZER;CN="Union Stiftung":MAILTO:info@unionstiftung.de
END:VEVENT
END:VCALENDAR