BEGIN:VCALENDAR
VERSION:2.0
PRODID:-//DorfNews Wetteraukreis - ECPv6.15.20//NONSGML v1.0//EN
CALSCALE:GREGORIAN
METHOD:PUBLISH
X-WR-CALNAME:DorfNews Wetteraukreis
X-ORIGINAL-URL:https://www.dorfnews-wetteraukreis.de
X-WR-CALDESC:Veranstaltungen im DorfNews Wetteraukreis
REFRESH-INTERVAL;VALUE=DURATION:PT1H
X-Robots-Tag:noindex
X-PUBLISHED-TTL:PT1H
BEGIN:VTIMEZONE
TZID:Europe/Berlin
BEGIN:DAYLIGHT
TZOFFSETFROM:+0100
TZOFFSETTO:+0200
TZNAME:CEST
DTSTART:20240331T010000
END:DAYLIGHT
BEGIN:STANDARD
TZOFFSETFROM:+0200
TZOFFSETTO:+0100
TZNAME:CET
DTSTART:20241027T010000
END:STANDARD
BEGIN:DAYLIGHT
TZOFFSETFROM:+0100
TZOFFSETTO:+0200
TZNAME:CEST
DTSTART:20250330T010000
END:DAYLIGHT
BEGIN:STANDARD
TZOFFSETFROM:+0200
TZOFFSETTO:+0100
TZNAME:CET
DTSTART:20251026T010000
END:STANDARD
BEGIN:DAYLIGHT
TZOFFSETFROM:+0100
TZOFFSETTO:+0200
TZNAME:CEST
DTSTART:20260329T010000
END:DAYLIGHT
BEGIN:STANDARD
TZOFFSETFROM:+0200
TZOFFSETTO:+0100
TZNAME:CET
DTSTART:20261025T010000
END:STANDARD
END:VTIMEZONE
BEGIN:VEVENT
DTSTART;TZID=Europe/Berlin:20250909T110000
DTEND;TZID=Europe/Berlin:20250909T120000
DTSTAMP:20260423T015520
CREATED:20250902T114753Z
LAST-MODIFIED:20250902T114753Z
UID:22321-1757415600-1757419200@www.dorfnews-wetteraukreis.de
SUMMARY:KI im Fundraising und Spendenmanagement
DESCRIPTION:Für alle\, die das Potenzial von KI im Fundraising und Spendenmanagement voll ausschöpfen wollen\, ist dieses Webinar genau das Richtige! Unser Ziel: Wir beleuchten jeden Touchpoint (Kontaktpunkt) entlang der Donor Journey (Spenderreise) – von der ersten Interaktion bis zur langfristigen Bindung – und zeigen\, wie Sie diese mithilfe von KI gezielt optimieren können. Erfahren Sie\, wie Sie Spender:innen effizienter ansprechen\, personalisierte Inhalte erstellen und nachhaltige Beziehungen aufbauen. \nInhalte:\n\nÜberblick über die Donor Journey (Spenderreise): Wo und wie kann KI sinnvoll unterstützen?\nInhalt-Erstellung und Fundraising: Automatisierte Texte und kontextbasierte Spendenvorschläge\nPersonalisierung: Touchpoints (Kontaktpunkte) individuell gestalten\, um Spender:innen gezielt anzusprechen\nDatenbasierte Entscheidungsfindung: Mit KI klüger analysieren und handeln\nAusblick: Individualisierte Spenderreisen und innovative Ansätze wie Augmented Reality (Erweiterte Realität) und differenzierter Blick über die Grenzen von KI\nTools: Überblick in generative KI in der Donor Journey und wie dabei die FundraisingBox unterstützen kann (Einblicke in generative KI wie ChatGPT oder FundraisingBox)
URL:https://www.dorfnews-wetteraukreis.de/event/ki-im-fundraising-und-spendenmanagement/
LOCATION:Online
ORGANIZER;CN="Haus des Stiftens gGmbH":MAILTO:muenchen@hausdesstiftens.org
END:VEVENT
BEGIN:VEVENT
DTSTART;TZID=Europe/Berlin:20250911T110000
DTEND;TZID=Europe/Berlin:20250911T120000
DTSTAMP:20260423T015520
CREATED:20250902T115117Z
LAST-MODIFIED:20250902T115117Z
UID:22325-1757588400-1757592000@www.dorfnews-wetteraukreis.de
SUMMARY:Effektiv mit KI arbeiten: Prompting & Strategien für die tägliche Arbeit
DESCRIPTION:Wie schreibe ich Prompts – also Anweisungen an ein KI-System –\, die wirklich funktionieren und gute Ergebnisse liefern? Dieser Frage gehen wir in diesem interaktiven Webinar nach. Ziel ist es\, dass Sie am Ende anhand praktischer Übungen wissen\, wie Sie KI durch gezielte Prompts steuern können\, um sowohl alltägliche Aufgaben als auch kreative Herausforderungen effektiv zu meistern. Egal\, ob Sie kreative Inhalte erstellen\, administrative Aufgaben bewältigen oder neue Ideen entwickeln möchten – dieses Webinar bietet die perfekte Grundlage\, um KI effizient und erfolgreich einzusetzen. \nInhalte:\n\nStartprompts: Grundlagen und Beispiele\, um den Rahmen für erfolgreiche KI-Interaktionen zu setzen\nPrompting-Strategien: Techniken für produktive und zielführende Konversationen mit der KI\nBrainstorming und Textgenerierung: Methoden\, um kreative Ideen und Texte entstehen zu lassen\nBildprompting: Ein Einblick in die Besonderheiten und Möglichkeiten der visuellen KI-Anwendungen\nBest Practices: Tipps und Tricks für den effektiven Einsatz von KI in der täglichen Arbeit
URL:https://www.dorfnews-wetteraukreis.de/event/effektiv-mit-ki-arbeiten-prompting-strategien-fuer-die-taegliche-arbeit/
LOCATION:Online
ORGANIZER;CN="Haus des Stiftens gGmbH":MAILTO:muenchen@hausdesstiftens.org
END:VEVENT
BEGIN:VEVENT
DTSTART;TZID=Europe/Berlin:20250917T110000
DTEND;TZID=Europe/Berlin:20250917T120000
DTSTAMP:20260423T015520
CREATED:20250902T115733Z
LAST-MODIFIED:20250902T115733Z
UID:22333-1758106800-1758110400@www.dorfnews-wetteraukreis.de
SUMMARY:KI verstehen: Grundlagen und erste Schritte
DESCRIPTION:Mit diesem Webinar bieten wir eine verständliche und praxisorientierte Einführung in die Welt der Künstlichen Intelligenz (KI). Wir beleuchten\, was KI ist\, wie sie funktioniert und warum sie gerade für Non-Profit-Organisationen enorme Potenziale bietet. Erleben Sie anschauliche Demonstrationen bekannter KI-Tools (z.B. ChatGPT\, Microsoft Copilot und Mistral) und lernen Sie\, wie diese Ihre gemeinnützige Arbeit effizienter und wirkungsvoller machen können. \nInhalte:\n\nGrundlagen der KI: Wichtige Begriffe und Konzepte einfach erklärt\nKI im Non-Profit-Bereich: Chancen\, Potenziale und konkrete Einsatzmöglichkeiten\nPraxisnahe Demos: Erste Schritte mit Tools wie ChatGPT\, Copilot und Mistral\nUnterstützung im Alltag: Wie KI Routineaufgaben erleichtern kann
URL:https://www.dorfnews-wetteraukreis.de/event/ki-verstehen-grundlagen-und-erste-schritte-2/
LOCATION:Online
ORGANIZER;CN="Haus des Stiftens gGmbH":MAILTO:muenchen@hausdesstiftens.org
END:VEVENT
BEGIN:VEVENT
DTSTART;TZID=Europe/Berlin:20250918T110000
DTEND;TZID=Europe/Berlin:20250918T120000
DTSTAMP:20260423T015520
CREATED:20250904T080039Z
LAST-MODIFIED:20250902T120333Z
UID:22342-1758193200-1758196800@www.dorfnews-wetteraukreis.de
SUMMARY:Erfolgreiche Freiwilligengewinnung mit KI: Storytelling & Zielgruppen
DESCRIPTION:In diesem Webinar zeigen wir Ihnen\, wie Sie Künstliche Intelligenz gezielt zur Gewinnung neuer Freiwilliger einsetzen können. Mit Hilfe datenbasierter Ansätze und kreativem Storytelling optimieren Sie Ihre Ansprache\, erreichen passende Zielgruppen und schaffen mehr Sichtbarkeit für Ihr Engagement. Erfahren Sie\, wie KI Ihre Kommunikationsstrategien unterstützt – von der ersten Kontaktaufnahme bis zur nachhaltigen Bindung von Ehrenamtlichen. \nInhalte:\n\nZielgruppenanalyse mit KI: Zielgruppen besser verstehen und direkt ansprechen\nKI-gestütztes Storytelling: Geschichten\, die bewegen und überzeugen – Tools und Technologien: Die besten KI-Tools für Ihre Öffentlichkeitsarbeit\nPraxisbeispiele: Erfolgreiche Kampagnen und ihre Umsetzung\nDatenschutz und Ethik: Sicherer und verantwortungsvoller Umgang mit Künstlicher Intelligenz
URL:https://www.dorfnews-wetteraukreis.de/event/erfolgreiche-freiwilligengewinnung-mit-ki-storytelling-zielgruppen-2/
LOCATION:Online
ORGANIZER;CN="Haus des Stiftens gGmbH":MAILTO:muenchen@hausdesstiftens.org
END:VEVENT
BEGIN:VEVENT
DTSTART;TZID=Europe/Berlin:20250923T110000
DTEND;TZID=Europe/Berlin:20250923T120000
DTSTAMP:20260423T015520
CREATED:20250909T100024Z
LAST-MODIFIED:20250902T120845Z
UID:22348-1758625200-1758628800@www.dorfnews-wetteraukreis.de
SUMMARY:KI praktisch nutzen: Tools für den Alltag
DESCRIPTION:Ob für administrative Aufgaben\, kreative Projekte oder strategische Entscheidungen – KI bietet Ihnen zahlreiche Möglichkeiten\, Ihre gemeinnützige Arbeit effizienter zu gestalten. Dieses Webinar richtet sich an Organisationen\, die erste Schritte mit KI machen oder bestehende Prozesse optimieren möchten. \nInhalte:\n\nKI verstehen: Grundlagen\, wie KI funktioniert und lernt\nAnwendungsfälle: Unterstützung bei Satzungen\, Mitgliederverwaltung und Finanzplanung\nTool-Vorstellungen: Textbearbeitung (Chat GPT\, Microsoft Copilot\, Mistral)\, Bildbearbeitung (Chat GPT\, DALL·E 3)\, Videobearbeitung (HeyGen)\nPraxis-Tipps: Erfolgreiche Implementierung von KI-Lösungen in Ihrer Organisation
URL:https://www.dorfnews-wetteraukreis.de/event/ki-praktisch-nutzen-tools-fuer-den-alltag/
LOCATION:Online
ORGANIZER;CN="Haus des Stiftens gGmbH":MAILTO:muenchen@hausdesstiftens.org
END:VEVENT
END:VCALENDAR