BEGIN:VCALENDAR
VERSION:2.0
PRODID:-//DorfNews Wetteraukreis - ECPv6.15.20//NONSGML v1.0//EN
CALSCALE:GREGORIAN
METHOD:PUBLISH
X-WR-CALNAME:DorfNews Wetteraukreis
X-ORIGINAL-URL:https://www.dorfnews-wetteraukreis.de
X-WR-CALDESC:Veranstaltungen im DorfNews Wetteraukreis
REFRESH-INTERVAL;VALUE=DURATION:PT1H
X-Robots-Tag:noindex
X-PUBLISHED-TTL:PT1H
BEGIN:VTIMEZONE
TZID:Europe/Berlin
BEGIN:DAYLIGHT
TZOFFSETFROM:+0100
TZOFFSETTO:+0200
TZNAME:CEST
DTSTART:20240331T010000
END:DAYLIGHT
BEGIN:STANDARD
TZOFFSETFROM:+0200
TZOFFSETTO:+0100
TZNAME:CET
DTSTART:20241027T010000
END:STANDARD
BEGIN:DAYLIGHT
TZOFFSETFROM:+0100
TZOFFSETTO:+0200
TZNAME:CEST
DTSTART:20250330T010000
END:DAYLIGHT
BEGIN:STANDARD
TZOFFSETFROM:+0200
TZOFFSETTO:+0100
TZNAME:CET
DTSTART:20251026T010000
END:STANDARD
BEGIN:DAYLIGHT
TZOFFSETFROM:+0100
TZOFFSETTO:+0200
TZNAME:CEST
DTSTART:20260329T010000
END:DAYLIGHT
BEGIN:STANDARD
TZOFFSETFROM:+0200
TZOFFSETTO:+0100
TZNAME:CET
DTSTART:20261025T010000
END:STANDARD
END:VTIMEZONE
BEGIN:VEVENT
DTSTART;TZID=Europe/Berlin:20251002T110000
DTEND;TZID=Europe/Berlin:20251002T120000
DTSTAMP:20260423T002921
CREATED:20250916T121746Z
LAST-MODIFIED:20250902T121943Z
UID:22356-1759402800-1759406400@www.dorfnews-wetteraukreis.de
SUMMARY:Effiziente Datenverwaltung im Fundraising mit KI
DESCRIPTION:Daten sind der Schlüssel zu erfolgreichem Fundraising – doch ihr Potenzial bleibt häufig ungenutzt. In diesem Webinar erfahren Sie\, wie Sie KI gezielt einsetzen\, um Spenderdaten effizient zu verwalten und Ihre Fundraising-Strategien wirkungsvoll zu verbessern. Von der Datenaktualisierung in Echtzeit über personalisierte Ansprache bis zur Automatisierung komplexer Prozesse – wir zeigen Ihnen praxisnahe Anwendungen\, die Sie direkt in Ihrem Arbeitsalltag umsetzen können. \nInhalte:\n\nDatenintegration & 360°-Spender:innenprofile: Ein umfassender Blick auf Ihre Unterstützer:innen\nAutomatisierung von Fundraising-Prozessen: Weniger Aufwand\, mehr Wirkung\nTrigger für Fundraising-Kampagnen: Automatisierte Auslöser für gezielte Spendenaufrufe\nDaten- & Datenschutzmanagement: Effizienz und Sicherheit in Einklang bringen\nTools im Fokus: FundraisingBox und Apteco
URL:https://www.dorfnews-wetteraukreis.de/event/effiziente-datenverwaltung-im-fundraising-mit-ki-2/
LOCATION:Online
ORGANIZER;CN="Haus des Stiftens gGmbH":MAILTO:muenchen@hausdesstiftens.org
END:VEVENT
BEGIN:VEVENT
DTSTART;TZID=Europe/Berlin:20251029T110000
DTEND;TZID=Europe/Berlin:20251029T120000
DTSTAMP:20260423T002921
CREATED:20251006T101126Z
LAST-MODIFIED:20250930T101239Z
UID:22715-1761735600-1761739200@www.dorfnews-wetteraukreis.de
SUMMARY:KI-Werkzeuge strategisch und erfolgreich einsetzen
DESCRIPTION:Dieses Webinar bietet Ihnen konkrete Ansätze\, wie Sie KI in Ihrer gemeinnützigen Organisation implementieren können – mit Blick auf ethische Herausforderungen und den praktischen Nutzen. Perfekt für gemeinnützige Organisationen\, die erste Schritte mit KI gehen oder bestehende Ansätze optimieren möchten. \nInhalte:\n\nDatenschutz und ethische Aspekte: Worauf Sie beim Einsatz von KI achten müssen\nNachhaltige Integration: Strategien für die langfristige Nutzung von KI-Lösungen\nKI-Strategie entwickeln: Von der Bedarfsanalyse bis zur Ressourcenplanung\nPraktische Checkliste: Schritt-für-Schritt-Anleitung für den erfolgreichen Einstieg06
URL:https://www.dorfnews-wetteraukreis.de/event/ki-werkzeuge-strategisch-und-erfolgreich-einsetzen/
LOCATION:Online
ORGANIZER;CN="Haus des Stiftens gGmbH":MAILTO:muenchen@hausdesstiftens.org
END:VEVENT
BEGIN:VEVENT
DTSTART;TZID=Europe/Berlin:20251031T130000
DTEND;TZID=Europe/Berlin:20251031T143000
DTSTAMP:20260423T002921
CREATED:20251006T101419Z
LAST-MODIFIED:20250930T101611Z
UID:22719-1761915600-1761921000@www.dorfnews-wetteraukreis.de
SUMMARY:ChatGPT für Einsteiger:innen
DESCRIPTION:Brainstorming und Content-Erstellung mit KIIn diesem Online-Seminar erkunden Sie die vielfältigen Möglichkeiten von Künstlicher Intelligenz (KI) in verschiedenen Bereichen des Brainstormings und der Textgenerierung. Sie erfahren\, wie KI Sie bei der Erstellung von Ideen kreativ unterstützt und Ihnen eine Fülle von inspirierenden Ansätzen in der Kommunikation liefern kann. Und wie KI-Tools Ihnen bei der Texterstellung für Social Media oder der nächsten Kursbeschreibung unter die Arme greifen und Ihnen helfen\, ansprechende und wirkungsvolle Inhalte zu gestalten.\nINHALTE: \n\nToolvorstellung: Funktionen von ChatGPT und mit der Nutzung verbundene Vor- und Nachteile\nAnwendung\, Einsatzbereiche und Herausforderungen des Tools\nIdeen entwickeln und bewerten mit ChatGPT\n\nZielgruppe: Dieses Seminar richtet sich an Einsteiger:innen die noch keine oder wenig Erfahrung mit ChatGPT haben. \nDie Teilnahme an diesem Fortbildungslehrgang wird für die Verlängerung der folgenden DOSB-Lizenzen des Landessportbundes Hessen\, der Sportjugend Hessen und des Hessischen Fußball-Verbandes mit 2 Lerneinheiten (LE) anerkannt:\n\nVereinsmanager:in C und Vereinsmanager:in B (VM)\nJugendleiter:in (JL)\nVereinsmanagement HFV
URL:https://www.dorfnews-wetteraukreis.de/event/chatgpt-fuer-einsteigerinnen/
LOCATION:Online
ORGANIZER;CN="Bildungsakademie des Landessportbundes Hessen e.V.":MAILTO:imazzanti-kaiser@sport-erlebnisse.de
END:VEVENT
END:VCALENDAR