BEGIN:VCALENDAR
VERSION:2.0
PRODID:-//DorfNews Wetteraukreis - ECPv6.15.20//NONSGML v1.0//EN
CALSCALE:GREGORIAN
METHOD:PUBLISH
X-ORIGINAL-URL:https://www.dorfnews-wetteraukreis.de
X-WR-CALDESC:Veranstaltungen im DorfNews Wetteraukreis
REFRESH-INTERVAL;VALUE=DURATION:PT1H
X-Robots-Tag:noindex
X-PUBLISHED-TTL:PT1H
BEGIN:VTIMEZONE
TZID:Europe/Berlin
BEGIN:DAYLIGHT
TZOFFSETFROM:+0100
TZOFFSETTO:+0200
TZNAME:CEST
DTSTART:20240331T010000
END:DAYLIGHT
BEGIN:STANDARD
TZOFFSETFROM:+0200
TZOFFSETTO:+0100
TZNAME:CET
DTSTART:20241027T010000
END:STANDARD
BEGIN:DAYLIGHT
TZOFFSETFROM:+0100
TZOFFSETTO:+0200
TZNAME:CEST
DTSTART:20250330T010000
END:DAYLIGHT
BEGIN:STANDARD
TZOFFSETFROM:+0200
TZOFFSETTO:+0100
TZNAME:CET
DTSTART:20251026T010000
END:STANDARD
BEGIN:DAYLIGHT
TZOFFSETFROM:+0100
TZOFFSETTO:+0200
TZNAME:CEST
DTSTART:20260329T010000
END:DAYLIGHT
BEGIN:STANDARD
TZOFFSETFROM:+0200
TZOFFSETTO:+0100
TZNAME:CET
DTSTART:20261025T010000
END:STANDARD
END:VTIMEZONE
BEGIN:VEVENT
DTSTART;TZID=Europe/Berlin:20251209T183000
DTEND;TZID=Europe/Berlin:20251209T190000
DTSTAMP:20260422T213439
CREATED:20251203T135845Z
LAST-MODIFIED:20251203T135845Z
UID:23402-1765305000-1765306800@www.dorfnews-wetteraukreis.de
SUMMARY:Kompetent im Ehrenamt ChatGPT für Vereine und Ehrenamt – KI praktisch nutzen
DESCRIPTION:Künstliche Intelligenz ist längst kein Zukunftsthema mehr – auch im Ehrenamt und Vereinsleben kann sie eine wertvolle Unterstützung sein. In diesem praxisnahen Kurs lernen Ehrenamtliche und Vereinsaktive\, wie sie ChatGPT sinnvoll und zeitsparend einsetzen können: etwa beim Verfassen von Texten für Einladungen\, Protokolle\, Pressemitteilungen oder Social Media\, bei der Ideenfindung für Projekte und Veranstaltungen oder beim Strukturieren von Informationen. \nAnhand konkreter Beispiele wird gezeigt\, wie ChatGPT funktioniert\, was es leisten kann – und wo die Grenzen liegen. Es gibt Raum für individuelle Fragen und erste praktische Übungen. Ziel ist es\, den Teilnehmenden Sicherheit und Inspiration für den KI-Einsatz im Vereinsalltag zu geben – auch ohne technische Vorkenntnisse. \nDieses Kursangebot ist als Qualifizierungsmaßnahme des Landes Hessen anerkannt. Partnerin des Angebots ist das Koordinierungszentrum für Bürgerengagement des Wetteraukreises. Der Kurs ist ab 7 Teilnehmenden durchführbar und für Teilnehmende kostenfrei.
URL:https://www.dorfnews-wetteraukreis.de/event/kompetent-im-ehrenamt-chatgpt-fuer-vereine-und-ehrenamt-ki-praktisch-nutzen/
LOCATION:Online
CATEGORIES:Bildung
ORGANIZER;CN="VHS Wetterau":MAILTO:info@vhs-wetterau.de
END:VEVENT
END:VCALENDAR