BEGIN:VCALENDAR
VERSION:2.0
PRODID:-//DorfNews Wetteraukreis - ECPv6.15.20//NONSGML v1.0//EN
CALSCALE:GREGORIAN
METHOD:PUBLISH
X-ORIGINAL-URL:https://www.dorfnews-wetteraukreis.de
X-WR-CALDESC:Veranstaltungen im DorfNews Wetteraukreis
REFRESH-INTERVAL;VALUE=DURATION:PT1H
X-Robots-Tag:noindex
X-PUBLISHED-TTL:PT1H
BEGIN:VTIMEZONE
TZID:Europe/Berlin
BEGIN:DAYLIGHT
TZOFFSETFROM:+0100
TZOFFSETTO:+0200
TZNAME:CEST
DTSTART:20250330T010000
END:DAYLIGHT
BEGIN:STANDARD
TZOFFSETFROM:+0200
TZOFFSETTO:+0100
TZNAME:CET
DTSTART:20251026T010000
END:STANDARD
BEGIN:DAYLIGHT
TZOFFSETFROM:+0100
TZOFFSETTO:+0200
TZNAME:CEST
DTSTART:20260329T010000
END:DAYLIGHT
BEGIN:STANDARD
TZOFFSETFROM:+0200
TZOFFSETTO:+0100
TZNAME:CET
DTSTART:20261025T010000
END:STANDARD
BEGIN:DAYLIGHT
TZOFFSETFROM:+0100
TZOFFSETTO:+0200
TZNAME:CEST
DTSTART:20270328T010000
END:DAYLIGHT
BEGIN:STANDARD
TZOFFSETFROM:+0200
TZOFFSETTO:+0100
TZNAME:CET
DTSTART:20271031T010000
END:STANDARD
END:VTIMEZONE
BEGIN:VEVENT
DTSTART;TZID=Europe/Berlin:20260505T110000
DTEND;TZID=Europe/Berlin:20260505T120000
DTSTAMP:20260423T055745
CREATED:20260422T104710Z
LAST-MODIFIED:20260422T104710Z
UID:24856-1777978800-1777982400@www.dorfnews-wetteraukreis.de
SUMMARY:Wie Texte mit KI zu Posts\, Podcasts oder Erklärvideos werden
DESCRIPTION:Jede Non-Profit-Organisation verfügt über wertvolle Inhalte: spannende Newsletter\, einen großartigen Jahresbericht oder eine informative Präsentation aus der Einführungsschulung für neue Ehrenamtliche. In diesem Workshop lernen Sie\, wie Sie aus diesen Schätzen mit wenigen Klicks mit KI neue Formen schaffst – zum Beispiel: \n1. ein knackiges Posting für Social Media \n2. ein Handout fürs nächste Teamtreffen \n3. eine Audiofassung für unterwegs \n4. oder ein kurzes Erklärvideo für eure Schulungen \nErfahren Sie\, wie Sie Inhalte so umwandeln\, dass Sie verschiedene Zielgruppen optimal erreichen – sei es für Öffentlichkeitsarbeit\, interne Kommunikation oder Bildungsarbeit. Profitieren Sie von frischen Ideen\, Tool-Tipps und einem Überblick über die Fähigkeiten und Grenzen aktueller KI-Tools. \nInhalte: \n\nKI mit Assistenzen/Projekten den eigenen Stil für Postings oder Handouts beibringen\nWorkflows entwickeln für kontinuierlich hohe Qualität\nTexte mit NotebookLM auf Knopfdruck zu Podcasts\, Info-Grafiken oder Erklärvideos verwandeln\nWarum Kontext und ein kritischer Blick noch wichtiger sind als das richtige Tool
URL:https://www.dorfnews-wetteraukreis.de/event/wie-texte-mit-ki-zu-posts-podcasts-oder-erklaervideos-werden/
LOCATION:Online
CATEGORIES:Bildung
ORGANIZER;CN="Haus des Stiftens gGmbH":MAILTO:muenchen@hausdesstiftens.org
END:VEVENT
BEGIN:VEVENT
DTSTART;TZID=Europe/Berlin:20260513T110000
DTEND;TZID=Europe/Berlin:20260513T120000
DTSTAMP:20260423T055745
CREATED:20260422T110128Z
LAST-MODIFIED:20260422T110128Z
UID:24874-1778670000-1778673600@www.dorfnews-wetteraukreis.de
SUMMARY:Präsentationen mit KI erstellen
DESCRIPTION:Von der ersten Idee bis zur fertigen Folie – mit KI an deiner Seite. \nWie kann KI helfen\, spannende Präsentationen schneller zu erstellen? \nIn diesem Webinar lernen Sie Schritt für Schritt\, wie Sie Perplexity\, ChatGPT\, Gamma.app\, Bildgeneratoren und weitere KI-Tools gezielt einsetzen können – von der Recherche über die Konzeption bis zum Foliendesign. \nDabei lernen Sie eine zentrale Grundregel der Künstlichen Intelligenz kennen: Wer mit KI effektiv arbeiten möchte\, sollte Aufgaben in kleine\, klare Schritte zerlegen. Finden Sie für jeden Aufgabenbereich das Tool\, das Sie bestmöglich unterstützt. \nInhalte: \n\nStorylines mit KI entwickeln\nDaten recherchieren mit Perplexity\nSprechende Bilder generieren mit Nano Banana\nGanze Präsentationsentwürfe erzeugen mit Gamma\nPräsentationen überarbeiten dank integrierter KI-Funktionen
URL:https://www.dorfnews-wetteraukreis.de/event/praesentationen-mit-ki-erstellen/
LOCATION:Online
CATEGORIES:Bildung
ORGANIZER;CN="Haus des Stiftens gGmbH":MAILTO:muenchen@hausdesstiftens.org
END:VEVENT
END:VCALENDAR