BEGIN:VCALENDAR
VERSION:2.0
PRODID:-//DorfNews Wetteraukreis - ECPv6.15.20//NONSGML v1.0//EN
CALSCALE:GREGORIAN
METHOD:PUBLISH
X-WR-CALNAME:DorfNews Wetteraukreis
X-ORIGINAL-URL:https://www.dorfnews-wetteraukreis.de
X-WR-CALDESC:Veranstaltungen im DorfNews Wetteraukreis
REFRESH-INTERVAL;VALUE=DURATION:PT1H
X-Robots-Tag:noindex
X-PUBLISHED-TTL:PT1H
BEGIN:VTIMEZONE
TZID:Europe/Berlin
BEGIN:DAYLIGHT
TZOFFSETFROM:+0100
TZOFFSETTO:+0200
TZNAME:CEST
DTSTART:20240331T010000
END:DAYLIGHT
BEGIN:STANDARD
TZOFFSETFROM:+0200
TZOFFSETTO:+0100
TZNAME:CET
DTSTART:20241027T010000
END:STANDARD
BEGIN:DAYLIGHT
TZOFFSETFROM:+0100
TZOFFSETTO:+0200
TZNAME:CEST
DTSTART:20250330T010000
END:DAYLIGHT
BEGIN:STANDARD
TZOFFSETFROM:+0200
TZOFFSETTO:+0100
TZNAME:CET
DTSTART:20251026T010000
END:STANDARD
BEGIN:DAYLIGHT
TZOFFSETFROM:+0100
TZOFFSETTO:+0200
TZNAME:CEST
DTSTART:20260329T010000
END:DAYLIGHT
BEGIN:STANDARD
TZOFFSETFROM:+0200
TZOFFSETTO:+0100
TZNAME:CET
DTSTART:20261025T010000
END:STANDARD
END:VTIMEZONE
BEGIN:VEVENT
DTSTART;TZID=Europe/Berlin:20250920T100000
DTEND;TZID=Europe/Berlin:20250920T130000
DTSTAMP:20260425T152430
CREATED:20250905T080029Z
LAST-MODIFIED:20250902T120715Z
UID:22346-1758362400-1758373200@www.dorfnews-wetteraukreis.de
SUMMARY:Schlagfertig statt sprachlos
DESCRIPTION:Herausfordernde Gesprächssituationen souverän meisternOb in Gesprächsrunden\, Verhandlungen oder bei Präsentationen – in zahlreichen Situationen des beruflichen Alltags ist Schlagfertigkeit gefragt: Etwa bei unerwarteten Einwänden und Widerständen oder bei Provokationen und Verbalattacken. Wer schlagfertig auftritt\, gilt als durchsetzungsstark\, erntet Respekt und Sympathie.\nDoch wie gelingt es\, in unvorhergesehenen Situationen schlagfertig und zielführend statt sprachlos und irritiert zu reagieren?\nThemen\nSie erproben ausgewählte Schlagfertigkeitstechniken\, mit denen Sie in heiklen Situationen gekonnt kontern\, ohne sich aus der Spur bringen zu lassen. In praxisorientierten Übungen erkunden Sie deren Wirkung und gewinnen an Leichtigkeit. \n\nWas ist Schlagfertigkeit und wie funktioniert sie?\nWelche Techniken gibt es für welche Situationen?\nWie trete ich sicher auf?
URL:https://www.dorfnews-wetteraukreis.de/event/schlagfertig-statt-sprachlos/
LOCATION:Online
ORGANIZER;CN="Bildungsakademie des Landessportbundes Hessen e.V.":MAILTO:imazzanti-kaiser@sport-erlebnisse.de
END:VEVENT
END:VCALENDAR