BEGIN:VCALENDAR
VERSION:2.0
PRODID:-//DorfNews Wetteraukreis - ECPv6.15.20//NONSGML v1.0//EN
CALSCALE:GREGORIAN
METHOD:PUBLISH
X-WR-CALNAME:DorfNews Wetteraukreis
X-ORIGINAL-URL:https://www.dorfnews-wetteraukreis.de
X-WR-CALDESC:Veranstaltungen im DorfNews Wetteraukreis
REFRESH-INTERVAL;VALUE=DURATION:PT1H
X-Robots-Tag:noindex
X-PUBLISHED-TTL:PT1H
BEGIN:VTIMEZONE
TZID:Europe/Berlin
BEGIN:DAYLIGHT
TZOFFSETFROM:+0100
TZOFFSETTO:+0200
TZNAME:CEST
DTSTART:20240331T010000
END:DAYLIGHT
BEGIN:STANDARD
TZOFFSETFROM:+0200
TZOFFSETTO:+0100
TZNAME:CET
DTSTART:20241027T010000
END:STANDARD
BEGIN:DAYLIGHT
TZOFFSETFROM:+0100
TZOFFSETTO:+0200
TZNAME:CEST
DTSTART:20250330T010000
END:DAYLIGHT
BEGIN:STANDARD
TZOFFSETFROM:+0200
TZOFFSETTO:+0100
TZNAME:CET
DTSTART:20251026T010000
END:STANDARD
BEGIN:DAYLIGHT
TZOFFSETFROM:+0100
TZOFFSETTO:+0200
TZNAME:CEST
DTSTART:20260329T010000
END:DAYLIGHT
BEGIN:STANDARD
TZOFFSETFROM:+0200
TZOFFSETTO:+0100
TZNAME:CET
DTSTART:20261025T010000
END:STANDARD
END:VTIMEZONE
BEGIN:VEVENT
DTSTART;TZID=Europe/Berlin:20250906T173000
DTEND;TZID=Europe/Berlin:20250906T190000
DTSTAMP:20260419T174433
CREATED:20250901T124737Z
LAST-MODIFIED:20250901T124737Z
UID:22287-1757179800-1757185200@www.dorfnews-wetteraukreis.de
SUMMARY:WORKSHOP DorfFunk & DorfNews
DESCRIPTION:Im Rahmen des Bingenheimer Kulturfestes bietet der Wetteraukreis allen Interessierten im Rahmen eines Workshops einen ersten Einblick in die Nutzung und Funktionsweise der App DorfFunk sowie der Webanwendung DorfNews. Die Veranstaltung bietet einen niedrigschwelligen Zugang für wenig technikaffine Menschen geben – aber auch Digital Nativs\, IT-Profis und Menschen auf der Suche nach alternativen SocialMedia-Angeboten sind herzlich willkommen. \nNeben einer Erklärung der Basisfunktionen beider Dienste und des Funktionsumfangs wird vorrangig der Umgang mit beiden Anwendungen erläutert.\nAuf der Agenda stehen Punkte wie das Einrichten eines DorfNews-Accounts\, das Erstellen von Beiträgen und Veranstaltungen in DorfNews\, aber auch Fragen zum Profil und eine Sammlung von Ideen für erste Beiträge haben Platz. Zusätzlich geben wir in einem kurzen DorfFunk-HowTo Hilfe bei den ersten Schritten in der App\, so dass am Ende der Veranstaltung direkt losgefunkt werden kann. \n  \n 
URL:https://www.dorfnews-wetteraukreis.de/event/workshop-dorffunk-dorfnews/
ATTACH;FMTTYPE=image/png:https://www.dorfnews-wetteraukreis.de/wp-content/uploads/sites/377/2025/09/DorfFunk-Vollbild-1920-x-1080-px.png
ORGANIZER;CN="Kultur und Land e.V":MAILTO:info@landerlebniswochen.de
END:VEVENT
END:VCALENDAR