BEGIN:VCALENDAR
VERSION:2.0
PRODID:-//DorfNews Wetteraukreis - ECPv6.15.20//NONSGML v1.0//EN
CALSCALE:GREGORIAN
METHOD:PUBLISH
X-ORIGINAL-URL:https://www.dorfnews-wetteraukreis.de
X-WR-CALDESC:Veranstaltungen im DorfNews Wetteraukreis
REFRESH-INTERVAL;VALUE=DURATION:PT1H
X-Robots-Tag:noindex
X-PUBLISHED-TTL:PT1H
BEGIN:VTIMEZONE
TZID:Europe/Berlin
BEGIN:DAYLIGHT
TZOFFSETFROM:+0100
TZOFFSETTO:+0200
TZNAME:CEST
DTSTART:20240331T010000
END:DAYLIGHT
BEGIN:STANDARD
TZOFFSETFROM:+0200
TZOFFSETTO:+0100
TZNAME:CET
DTSTART:20241027T010000
END:STANDARD
BEGIN:DAYLIGHT
TZOFFSETFROM:+0100
TZOFFSETTO:+0200
TZNAME:CEST
DTSTART:20250330T010000
END:DAYLIGHT
BEGIN:STANDARD
TZOFFSETFROM:+0200
TZOFFSETTO:+0100
TZNAME:CET
DTSTART:20251026T010000
END:STANDARD
BEGIN:DAYLIGHT
TZOFFSETFROM:+0100
TZOFFSETTO:+0200
TZNAME:CEST
DTSTART:20260329T010000
END:DAYLIGHT
BEGIN:STANDARD
TZOFFSETFROM:+0200
TZOFFSETTO:+0100
TZNAME:CET
DTSTART:20261025T010000
END:STANDARD
END:VTIMEZONE
BEGIN:VEVENT
DTSTART;TZID=Europe/Berlin:20250901T193000
DTEND;TZID=Europe/Berlin:20250901T213000
DTSTAMP:20260421T162326
CREATED:20250827T210744Z
LAST-MODIFIED:20250828T075447Z
UID:22262-1756755000-1756762200@www.dorfnews-wetteraukreis.de
SUMMARY:Komm\, hör zu und sing mit!
DESCRIPTION:Der MGV Wolferborn lädt ein zum zuhören und mitsingen!
URL:https://www.dorfnews-wetteraukreis.de/event/komm-hoer-zu-und-sing-mit/
LOCATION:Markthalle Büdingen
ATTACH;FMTTYPE=image/jpeg:https://www.dorfnews-wetteraukreis.de/wp-content/uploads/sites/377/2025/08/062f45c9-8511-4c21-a434-b5db0e90dd35.jpeg
END:VEVENT
BEGIN:VEVENT
DTSTART;TZID=Europe/Berlin:20250517T190000
DTEND;TZID=Europe/Berlin:20250517T220000
DTSTAMP:20260421T162326
CREATED:20250504T080804Z
LAST-MODIFIED:20250504T080935Z
UID:21060-1747508400-1747519200@www.dorfnews-wetteraukreis.de
SUMMARY:Liederabend Alte Klamotte(n) - Neuer Klang
DESCRIPTION:Der MGV lädt herzlich zum Liederabend ein. \nGÄSTE sind: Liederkranz Leisenwald\, Männerchor Calbach\, Concordia 1882 Gelnhaar\, Chorgemeinschaft Kefenrod/Rinderbügen\, Chorgemeinschaft Ober-Seemen \nZuschauerinnen und Zuschauer dürfen sich gerne auch kleidungsmäßig dem Thema anpassen.
URL:https://www.dorfnews-wetteraukreis.de/event/liederabend-alte-klamotten-neuer-klang/
LOCATION:Seemenbachhalle Wolferborn
ATTACH;FMTTYPE=image/jpeg:https://www.dorfnews-wetteraukreis.de/wp-content/uploads/sites/377/2025/05/e6d38264-186c-42fc-8586-0b80772a5c8e.jpeg
END:VEVENT
END:VCALENDAR