BEGIN:VCALENDAR
VERSION:2.0
PRODID:-//DorfNews Wetteraukreis - ECPv6.15.20//NONSGML v1.0//EN
CALSCALE:GREGORIAN
METHOD:PUBLISH
X-ORIGINAL-URL:https://www.dorfnews-wetteraukreis.de
X-WR-CALDESC:Veranstaltungen im DorfNews Wetteraukreis
REFRESH-INTERVAL;VALUE=DURATION:PT1H
X-Robots-Tag:noindex
X-PUBLISHED-TTL:PT1H
BEGIN:VTIMEZONE
TZID:Europe/Berlin
BEGIN:DAYLIGHT
TZOFFSETFROM:+0100
TZOFFSETTO:+0200
TZNAME:CEST
DTSTART:20240331T010000
END:DAYLIGHT
BEGIN:STANDARD
TZOFFSETFROM:+0200
TZOFFSETTO:+0100
TZNAME:CET
DTSTART:20241027T010000
END:STANDARD
BEGIN:DAYLIGHT
TZOFFSETFROM:+0100
TZOFFSETTO:+0200
TZNAME:CEST
DTSTART:20250330T010000
END:DAYLIGHT
BEGIN:STANDARD
TZOFFSETFROM:+0200
TZOFFSETTO:+0100
TZNAME:CET
DTSTART:20251026T010000
END:STANDARD
BEGIN:DAYLIGHT
TZOFFSETFROM:+0100
TZOFFSETTO:+0200
TZNAME:CEST
DTSTART:20260329T010000
END:DAYLIGHT
BEGIN:STANDARD
TZOFFSETFROM:+0200
TZOFFSETTO:+0100
TZNAME:CET
DTSTART:20261025T010000
END:STANDARD
END:VTIMEZONE
BEGIN:VEVENT
DTSTART;TZID=Europe/Berlin:20250910T180000
DTEND;TZID=Europe/Berlin:20250910T193000
DTSTAMP:20260425T222715
CREATED:20250902T114933Z
LAST-MODIFIED:20250902T114933Z
UID:22323-1757527200-1757532600@www.dorfnews-wetteraukreis.de
SUMMARY:Markenentwicklung für Vereine
DESCRIPTION:Vereins-Branding – Erstellung einer Markenstrategie \nIm Marketing versteht man unter Markenentwicklung den Prozess\, Leistungen in Zukunft glaubwürdig\, attraktiv und differenzierend zu erbringen und zu vermarkten. Die Nutzung von Medien ist dabei ein wichtiger Bestandteil. Vereine bleiben dabei oft unter ihren Möglichkeiten und verstecken sich hinter kommerziellen Anbietern. Das muss nicht sein!\n\nIn diesem Online-Workshop erhalten Vereinsvertreter:innen Impulse zum Thema Markenentwicklung und -strategie und wie diese auf Social Media eingesetzt werden können. Es soll Licht in den Wald voller Möglichkeiten gebracht werden\, denn es gibt nahezu keine Grenzen und das zu erkennen\, ist der erste Schritt\, um die richtige Lösung zu finden\, die zu den Bedürfnissen und Zielen des Vereins passt. Hier wird auf verschiedene Möglichkeiten eingegangen sich online und offline darzustellen\, sich ein Netzwerk aufzubauen und sich als Verein digitaler aufzustellen sowie in der Stadt oder der Region sichtbarer zu sein für potentielle Sponsoren und neue Mitglieder.\n\nINHALTE: \n\nVereins-Branding als Tool zur Sichtbarkeit\nNutzung von Social Media im Verein\nContent Creation – wo fange ich an?
URL:https://www.dorfnews-wetteraukreis.de/event/markenentwicklung-fuer-vereine/
LOCATION:Online
ORGANIZER;CN="Bildungsakademie des Landessportbundes Hessen e.V.":MAILTO:imazzanti-kaiser@sport-erlebnisse.de
END:VEVENT
END:VCALENDAR