BEGIN:VCALENDAR
VERSION:2.0
PRODID:-//DorfNews Wetteraukreis - ECPv6.15.20//NONSGML v1.0//EN
CALSCALE:GREGORIAN
METHOD:PUBLISH
X-ORIGINAL-URL:https://www.dorfnews-wetteraukreis.de
X-WR-CALDESC:Veranstaltungen im DorfNews Wetteraukreis
REFRESH-INTERVAL;VALUE=DURATION:PT1H
X-Robots-Tag:noindex
X-PUBLISHED-TTL:PT1H
BEGIN:VTIMEZONE
TZID:Europe/Berlin
BEGIN:DAYLIGHT
TZOFFSETFROM:+0100
TZOFFSETTO:+0200
TZNAME:CEST
DTSTART:20240331T010000
END:DAYLIGHT
BEGIN:STANDARD
TZOFFSETFROM:+0200
TZOFFSETTO:+0100
TZNAME:CET
DTSTART:20241027T010000
END:STANDARD
BEGIN:DAYLIGHT
TZOFFSETFROM:+0100
TZOFFSETTO:+0200
TZNAME:CEST
DTSTART:20250330T010000
END:DAYLIGHT
BEGIN:STANDARD
TZOFFSETFROM:+0200
TZOFFSETTO:+0100
TZNAME:CET
DTSTART:20251026T010000
END:STANDARD
BEGIN:DAYLIGHT
TZOFFSETFROM:+0100
TZOFFSETTO:+0200
TZNAME:CEST
DTSTART:20260329T010000
END:DAYLIGHT
BEGIN:STANDARD
TZOFFSETFROM:+0200
TZOFFSETTO:+0100
TZNAME:CET
DTSTART:20261025T010000
END:STANDARD
END:VTIMEZONE
BEGIN:VEVENT
DTSTART;TZID=Europe/Berlin:20251106T173000
DTEND;TZID=Europe/Berlin:20251106T200000
DTSTAMP:20260425T191721
CREATED:20251031T090148Z
LAST-MODIFIED:20251031T090148Z
UID:22949-1762450200-1762459200@www.dorfnews-wetteraukreis.de
SUMMARY:Fortbildung: Flyer und Handzettel planen
DESCRIPTION:Es gibt nahezu keinen Verein\, der nicht irgendwann einmal einen Flyer oder Handzettel herausbringen möchte\, um auf sich oder sein Angebot aufmerksam zu machen. Die meisten Verantwortlichen sind bei der Planung unsicher und machen einfach drauf los. Das ist wenig zielführend. \n\nWie muss ein Flyer gestaltet sein\, damit er beachtet wird?\nWelches Format und welche Seitenzahl sind sinnvoll?\nWelchen Inhalt soll er transportieren?\nWie aussagekräftig sind Bilder?\n\nDie Journalistin und PR-Dozentin Hanna v. Prosch erklärt\, wie man einen Flyer sinnvoll plant und gestaltet. Sie sensibilisiert für Aussagekraft und Reiz. Die Teilnehmenden können eigene Flyer und Entwürfe mitbringen\, die gemeinsam oder im Nachgang besprochen werden. \nAnmeldung bis 03.11.25. erbeten per Mail an: fwz@fwz-badnauheim.de oder telefonisch 06032/920359 \nVeranstaltungsort: Erika-Pitzer-Begegnungszentrum
URL:https://www.dorfnews-wetteraukreis.de/event/fortbildung-flyer-und-handzettel-planen/
LOCATION:[Amtlicher Beitrag] Erika-Pitzer-Begegnungszentrum\, Blücherstr. 23\, Bad Nauheim\, 61231
ORGANIZER;CN="Freiwilligenzentrum Bad Nauheim":MAILTO:fwz@fwz-badnauheim.de
END:VEVENT
END:VCALENDAR