BEGIN:VCALENDAR
VERSION:2.0
PRODID:-//DorfNews Wetteraukreis - ECPv6.15.20//NONSGML v1.0//EN
CALSCALE:GREGORIAN
METHOD:PUBLISH
X-WR-CALNAME:DorfNews Wetteraukreis
X-ORIGINAL-URL:https://www.dorfnews-wetteraukreis.de
X-WR-CALDESC:Veranstaltungen im DorfNews Wetteraukreis
REFRESH-INTERVAL;VALUE=DURATION:PT1H
X-Robots-Tag:noindex
X-PUBLISHED-TTL:PT1H
BEGIN:VTIMEZONE
TZID:Europe/Berlin
BEGIN:DAYLIGHT
TZOFFSETFROM:+0100
TZOFFSETTO:+0200
TZNAME:CEST
DTSTART:20250330T010000
END:DAYLIGHT
BEGIN:STANDARD
TZOFFSETFROM:+0200
TZOFFSETTO:+0100
TZNAME:CET
DTSTART:20251026T010000
END:STANDARD
BEGIN:DAYLIGHT
TZOFFSETFROM:+0100
TZOFFSETTO:+0200
TZNAME:CEST
DTSTART:20260329T010000
END:DAYLIGHT
BEGIN:STANDARD
TZOFFSETFROM:+0200
TZOFFSETTO:+0100
TZNAME:CET
DTSTART:20261025T010000
END:STANDARD
BEGIN:DAYLIGHT
TZOFFSETFROM:+0100
TZOFFSETTO:+0200
TZNAME:CEST
DTSTART:20270328T010000
END:DAYLIGHT
BEGIN:STANDARD
TZOFFSETFROM:+0200
TZOFFSETTO:+0100
TZNAME:CET
DTSTART:20271031T010000
END:STANDARD
END:VTIMEZONE
BEGIN:VEVENT
DTSTART;TZID=Europe/Berlin:20260704T100000
DTEND;TZID=Europe/Berlin:20260704T150000
DTSTAMP:20260422T170319
CREATED:20260422T101135Z
LAST-MODIFIED:20260422T101135Z
UID:24840-1783159200-1783177200@www.dorfnews-wetteraukreis.de
SUMMARY:Selbsthilfe-MEILE
DESCRIPTION:Unter dem Motto „Entscheidend ist der Wille\, sich selbst zu helfen“ findet am Samstag\, 4. Juli 2026\, von 10 bis 15 Uhr erneut die Selbsthilfe-MEILE auf der Bad Nauheimer Kiespromenade (parallel zur Parkstr.) statt. \nRund 70 Selbsthilfegruppen\, soziale Beratungsstellen und ehrenamtliche Einrichtungen aus dem Wetteraukreis und der angrenzenden Region stellen ihre Arbeit vor. Sie stehen für Gespräche zur Verfügung\, informieren über Unterstützungsangebote und geben Orientierung in schwierigen Lebenssituationen. Voraussetzung dafür ist lediglich die Bereitschaft\, sich mit der eigenen Situation auseinanderzusetzen und Veränderung in den Blick zu nehmen. \nAuf der Selbsthilfe-MEILE \n\nbieten Selbsthilfegruppen Erfahrungsaustausch auf Augenhöhe\, Verständnis ohne Vorbehalte sowie Unterstützung zur Selbsthilfe als Ergänzung zu therapeutischen Angeboten.\ninformieren Beratungsstellen vertraulich und fachlich bei Krisen und in belastenden Lebenslagen und zeigen mögliche Wege und Lösungen auf.\nstellt ehrenamtliches Engagement Möglichkeiten vor\, sich einzubringen\, soziale Kontakte zu knüpfen und gesellschaftlichen Zusammenhalt aktiv mitzugestalten.\n\nDiese Vielfalt an Informationen und Anlaufstellen macht die Selbsthilfe-MEILE aus. \nHier geht es zu den Teilnehmenden\nHier geht es zu den besonderen Angeboten \nBesuchen Sie die Selbsthilfe-MEILE und nutzen Sie die Gelegenheit\, sich zu informieren und ins Gespräch zu kommen. \n  \nWir freuen uns auf Ihren Besuch! \n  \nJan Weckler                                                        Anette Obleser \nLandrat des Wetteraukreises                              Selbsthilfe-Kontaktstelle des Wetteraukreises
URL:https://www.dorfnews-wetteraukreis.de/event/selbsthilfe-meile-2/
LOCATION:Kiespromenade Bad Nauheim\, Kiespromenade unter den Linden\, Bad Nauheim
CATEGORIES:Bildung,Freizeit
ATTACH;FMTTYPE=image/jpeg:https://www.dorfnews-wetteraukreis.de/wp-content/uploads/sites/377/2026/04/Selbsthilfemeile-scaled.jpg
ORGANIZER;CN="Selbsthilfe-Kontaktstelle des Wetteraukreises":MAILTO:selbsthilfe@wetteraukreis.de
END:VEVENT
END:VCALENDAR