BEGIN:VCALENDAR
VERSION:2.0
PRODID:-//DorfNews Wetteraukreis - ECPv6.15.20//NONSGML v1.0//EN
CALSCALE:GREGORIAN
METHOD:PUBLISH
X-ORIGINAL-URL:https://www.dorfnews-wetteraukreis.de
X-WR-CALDESC:Veranstaltungen im DorfNews Wetteraukreis
REFRESH-INTERVAL;VALUE=DURATION:PT1H
X-Robots-Tag:noindex
X-PUBLISHED-TTL:PT1H
BEGIN:VTIMEZONE
TZID:Europe/Berlin
BEGIN:DAYLIGHT
TZOFFSETFROM:+0100
TZOFFSETTO:+0200
TZNAME:CEST
DTSTART:20240331T010000
END:DAYLIGHT
BEGIN:STANDARD
TZOFFSETFROM:+0200
TZOFFSETTO:+0100
TZNAME:CET
DTSTART:20241027T010000
END:STANDARD
BEGIN:DAYLIGHT
TZOFFSETFROM:+0100
TZOFFSETTO:+0200
TZNAME:CEST
DTSTART:20250330T010000
END:DAYLIGHT
BEGIN:STANDARD
TZOFFSETFROM:+0200
TZOFFSETTO:+0100
TZNAME:CET
DTSTART:20251026T010000
END:STANDARD
BEGIN:DAYLIGHT
TZOFFSETFROM:+0100
TZOFFSETTO:+0200
TZNAME:CEST
DTSTART:20260329T010000
END:DAYLIGHT
BEGIN:STANDARD
TZOFFSETFROM:+0200
TZOFFSETTO:+0100
TZNAME:CET
DTSTART:20261025T010000
END:STANDARD
END:VTIMEZONE
BEGIN:VEVENT
DTSTART;TZID=Europe/Berlin:20250824T103000
DTEND;TZID=Europe/Berlin:20250824T163000
DTSTAMP:20260423T134633
CREATED:20250805T074843Z
LAST-MODIFIED:20250805T075758Z
UID:22134-1756031400-1756053000@www.dorfnews-wetteraukreis.de
SUMMARY:ULFA: Sommerfest auf der Steinkaute
DESCRIPTION:Flyer Sommerfest neu\nDie Ev. Gemeinschaft lädt am Sonntag\, dem 24. August alle Interessierten zum Sommerfest auf den Grillplatz Steinkaute ein.\nUm 10.30 Uhr startet ein Familien-Gottesdienst im Grünen mit Musik\, daran schließt sich ein gemeinsames Mittagessen mit „Woscht voll Grill“ und Salaten an.\nAußerdem gibt es Spielangebote für Kinder und ein Volleyballfeld zur sportlichen Betätigung.\nEine gute Möglichkeit Leute kennenzulernen und  Zeit für Gespräche und Austausch zu haben in einer wunderschönen Umgebung.\nDas Fest schließt am Nachmittag dann mit Kaffee und Kuchen ab.  \n \n 
URL:https://www.dorfnews-wetteraukreis.de/event/ulfa-sommerfest-auf-der-steinkaute/
ATTACH;FMTTYPE=image/jpeg:https://www.dorfnews-wetteraukreis.de/wp-content/uploads/sites/377/2025/08/20240726_154358a-scaled.jpg
END:VEVENT
END:VCALENDAR