BEGIN:VCALENDAR
VERSION:2.0
PRODID:-//DorfNews Wetteraukreis - ECPv6.15.20//NONSGML v1.0//EN
CALSCALE:GREGORIAN
METHOD:PUBLISH
X-WR-CALNAME:DorfNews Wetteraukreis
X-ORIGINAL-URL:https://www.dorfnews-wetteraukreis.de
X-WR-CALDESC:Veranstaltungen im DorfNews Wetteraukreis
REFRESH-INTERVAL;VALUE=DURATION:PT1H
X-Robots-Tag:noindex
X-PUBLISHED-TTL:PT1H
BEGIN:VTIMEZONE
TZID:Europe/Berlin
BEGIN:DAYLIGHT
TZOFFSETFROM:+0100
TZOFFSETTO:+0200
TZNAME:CEST
DTSTART:20230326T010000
END:DAYLIGHT
BEGIN:STANDARD
TZOFFSETFROM:+0200
TZOFFSETTO:+0100
TZNAME:CET
DTSTART:20231029T010000
END:STANDARD
BEGIN:DAYLIGHT
TZOFFSETFROM:+0100
TZOFFSETTO:+0200
TZNAME:CEST
DTSTART:20240331T010000
END:DAYLIGHT
BEGIN:STANDARD
TZOFFSETFROM:+0200
TZOFFSETTO:+0100
TZNAME:CET
DTSTART:20241027T010000
END:STANDARD
BEGIN:DAYLIGHT
TZOFFSETFROM:+0100
TZOFFSETTO:+0200
TZNAME:CEST
DTSTART:20250330T010000
END:DAYLIGHT
BEGIN:STANDARD
TZOFFSETFROM:+0200
TZOFFSETTO:+0100
TZNAME:CET
DTSTART:20251026T010000
END:STANDARD
BEGIN:DAYLIGHT
TZOFFSETFROM:+0100
TZOFFSETTO:+0200
TZNAME:CEST
DTSTART:20260329T010000
END:DAYLIGHT
BEGIN:STANDARD
TZOFFSETFROM:+0200
TZOFFSETTO:+0100
TZNAME:CET
DTSTART:20261025T010000
END:STANDARD
BEGIN:DAYLIGHT
TZOFFSETFROM:+0100
TZOFFSETTO:+0200
TZNAME:CEST
DTSTART:20270328T010000
END:DAYLIGHT
BEGIN:STANDARD
TZOFFSETFROM:+0200
TZOFFSETTO:+0100
TZNAME:CET
DTSTART:20271031T010000
END:STANDARD
END:VTIMEZONE
BEGIN:VEVENT
DTSTART;TZID=Europe/Berlin:20260121T190000
DTEND;TZID=Europe/Berlin:20260121T203000
DTSTAMP:20260422T220025
CREATED:20251203T140151Z
LAST-MODIFIED:20251203T140151Z
UID:23406-1769022000-1769027400@www.dorfnews-wetteraukreis.de
SUMMARY:Vorstandsnachfolge - Netzwerke bilden
DESCRIPTION:In diesem Kurzformat blicken wir mit Fokus auf den Vorstand über diesen hinaus. Es wird besprochen\, wie man sich ein Mehrwert generierendes Netzwerk schafft und dieses nutzt\, um den Fortbestand des Vereins als Vorstand gewährleisten zu können. Vieles schafft man nicht allein\, aber vernetzt fällt es leichter.
URL:https://www.dorfnews-wetteraukreis.de/event/vorstandsnachfolge-netzwerke-bilden/
LOCATION:Online
CATEGORIES:Bildung
END:VEVENT
BEGIN:VEVENT
DTSTART;TZID=Europe/Berlin:20251112T190000
DTEND;TZID=Europe/Berlin:20251112T203000
DTSTAMP:20260422T220025
CREATED:20251031T091312Z
LAST-MODIFIED:20251031T091312Z
UID:22962-1762974000-1762979400@www.dorfnews-wetteraukreis.de
SUMMARY:Vorstandsnachfolge - Den Vorstand neu denken
DESCRIPTION:Vorstand in einem Verein zu sein\, ist ein wichtiges und für den Verein notwendiges Amt. Leider gestaltet sich häufig jedoch die Suche nach Nachfolger*innen bzw. neuen Vorstandsmitgliedern schwieriger als gedacht. \n\nIn diesem Kurzformat wird es darum gehen den eigenen Vorstand und die satzungsgemäße Zusammensetzung zu reflektieren. Zentral steht das Vorstandsteam im Vordergrund\, wie kann man diese Einheit gestalten und attraktiv für neue beziehungsweise nachfolgende Mitglieder machen. \nAnmeldeschluss: 04.11.2025
URL:https://www.dorfnews-wetteraukreis.de/event/vorstandsnachfolge-den-vorstand-neu-denken/
LOCATION:Online
END:VEVENT
BEGIN:VEVENT
DTSTART;TZID=Europe/Berlin:20251111T170000
DTEND;TZID=Europe/Berlin:20251111T200000
DTSTAMP:20260422T220025
CREATED:20251031T090726Z
LAST-MODIFIED:20251031T090726Z
UID:22958-1762880400-1762891200@www.dorfnews-wetteraukreis.de
SUMMARY:Neu im Vorstand?
DESCRIPTION:Wichtiges\, was ein Vorstand kennen mussOhne rechtliches Wissen lässt sich ein Verein heute nicht mehr führen. Aber damit ist ein weites und vor allem unübersichtliches Feld angesprochen\, was leider auch viele Mitglieder davon abhält\, ein Vorstandsamt zu übernehmen. Es ist schwierig\, aus der Vielzahl von Informationen diejenigen herauszufiltern\, die für die Vorstandsarbeit unerlässlich sind. Hier will dieses Online-Seminar helfen. Die wichtigsten Informationen werden kompakt und übersichtlich nach dem Motto dargestellt: Wie behalte ich den Durchblick? Wann benötige ich fachkundige Hilfe und wo bekomme ich diese? Im Laufe des Seminars erhalten Sie von Rechtsanwalt Dr. Weller einen kurzen\, einführenden Überblick über folgende Themengebiete.\n\nINHALTE: \n\nAufgaben des Vorstandes\nDie Mitgliederversammlung\nVerhalten im Internet\nSteuer- und Spendenrecht\n\nDieses Seminar ersetz keine individuelle Rechts- bzw. Vereinsberatung. Vertiefende Seminare zu den einzelnen Themengebieten werden separat angeobten. \n\nZielgruppe: Dieses Seminar richtet sich vor allem ein Einsteiger:innen die sich erstmals im Vorstand eines Vereins engagieren und noch kein oder nur wenig Vorwissen haben.
URL:https://www.dorfnews-wetteraukreis.de/event/neu-im-vorstand-2/
LOCATION:Online
ORGANIZER;CN="Bildungsakademie des Landessportbundes Hessen e.V.":MAILTO:imazzanti-kaiser@sport-erlebnisse.de
END:VEVENT
BEGIN:VEVENT
DTSTART;TZID=Europe/Berlin:20251028T090000
DTEND;TZID=Europe/Berlin:20251028T160000
DTSTAMP:20260422T220025
CREATED:20251006T100634Z
LAST-MODIFIED:20250930T100830Z
UID:22709-1761642000-1761667200@www.dorfnews-wetteraukreis.de
SUMMARY:Grundlagen des Gemeinnützigkeitsrechts
DESCRIPTION:Der Kurs lohnt sich\, weil…\nDurch ihren gemeinnützigen Status haben Vereine\, Stiftungen und Non-Profits rechtlich in vielerlei Hinsicht eine besondere Stellung. Von der Anerkennung und dem Erhalt der Gemeinnützigkeit über die Zusammenarbeit mit Ehrenamtlichen bis zur Vorstandsarbeit gibt es zahlreiche rechtliche Aspekte\, die unbedingt beachtet werden müssen. Doch in vielen Organisationen wird auf Grundlage von Halbwissen oder überholter Regelungen gearbeitet. Um Fehler zu vermeiden und ein Haftungsrisiko auszuschließen\, lohnt es sich\, genau hinzuschauen\, Rechtssicherheit zu gewinnen\, Prozesse und die Satzung regelmäßig anzupassen sowie über Reformen informiert zu sein. \nDas vermittelt der Kurs…\nDas Seminar klärt über alle wesentlichen (Steuer)Vorteile und rechtlichen Herausforderungen auf\, die sich aus der Gemeinnützigkeit von Vereinen und anderen Körperschaften wie Stiftungen und gGmbHs ergeben. Erläutert werden insbesondere die Grundsätze der Selbstlosigkeit (§ 55 AO)\, der Ausschließlichkeit (§ 56 AO) und der Unmittelbarkeit (§ 57 AO). Sie erfahren\, wann Gemeinnützigkeit anerkannt wird und was Organisationen tun müssen\, um dem Status gerecht zu werden. Wie die vier Tätigkeitsbereiche voneinander abgegrenzt werden\, welche Steuerbegünstigungen zur Anwendung kommen und wie Rücklagen gebildet werden können. Auch Aspekte wie die Mittelweitergabe\, das Erstellen von Rechenschaftsberichten und der Umgang mit dem Finanzamt spielen eine Rolle. \nThemen:\n\n\nGrundlagen Gemeinnützigkeitsrecht\nGemeinnützigkeit erhalten und gerecht werden\nIdeeller Bereich\, Vermögensverwaltung\, Zweckbetrieb\, steuerpflichtiger wirtschaftlicher Geschäftsbetrieb\nMittelverwendung\, Mittelweitergabe und Rücklagenbildung\nKooperationsmöglichkeiten\nUmgang mit dem Finanzamt
URL:https://www.dorfnews-wetteraukreis.de/event/grundlagen-des-gemeinnuetzigkeitsrechts/
LOCATION:Online
ORGANIZER;CN="Akademie f%C3%BCr Ehrenamtlichkeit Deutschland":MAILTO:akademie@ehrenamt.de
END:VEVENT
BEGIN:VEVENT
DTSTART;TZID=Europe/Berlin:20251022T163000
DTEND;TZID=Europe/Berlin:20251022T200000
DTSTAMP:20260422T220025
CREATED:20251002T100125Z
LAST-MODIFIED:20250930T100353Z
UID:22705-1761150600-1761163200@www.dorfnews-wetteraukreis.de
SUMMARY:Rechtliche Sicherheit in der Vorstandsarbeit
DESCRIPTION:Der Kurs lohnt sich\, weil…\nDurch ihren gemeinnützigen Status haben Vereine\, Stiftungen und Non-Profits rechtlich in vielerlei Hinsicht eine besondere Stellung. Von der Anerkennung und dem Erhalt der Gemeinnützigkeit über die Zusammenarbeit mit Ehrenamtlichen bis zur Vorstandsarbeit gibt es zahlreiche rechtliche Aspekte\, die unbedingt beachtet werden müssen. Doch in vielen Organisationen wird auf Grundlage von Halbwissen oder überholter Regelungen gearbeitet. Um Fehler zu vermeiden und ein Haftungsrisiko auszuschließen\, lohnt es sich\, genau hinzuschauen\, Rechtssicherheit zu gewinnen\, Prozesse und die Satzung regelmäßig anzupassen sowie über Reformen informiert zu sein. \nDas vermittelt der Kurs…\nIn unserem kompakten Webinar werden alle wichtigen rechtlichen Aspekte der Vorstandstätigkeit dargestellt. Zudem erhalten Sie zahlreiche Tipps zur Gestaltung Ihrer Geschäftsordnung und Satzung. Als (angehendes) Vorstandsmitglied gewinnen Sie Klarheit über die rechtlichen Rahmenbedingungen ihrer Tätigkeit von der Wahl und die Amtszeit\, Wiederwahl\, Abberufung oder Niederlegung des Amtes bis zur Organisation des Vorstands. Ein weiterer Schwerpunkt liegt auf Zahlungen an Ehrenamtliche und Vorstände. Ehrenamt und Anstellung werden klar voneinander abgegrenzt und Sie erfahren\, unter welchen Voraussetzungen Ehrenamtliche und Vorstände (steuerfrei) vergütet werden können. Auch die Pflichten und Befugnisse von Vorstandsmitgliedern sowie die erfolgreiche Entlastung des Vorstandes werden beleuchtet. \nThemen:\n\n\nRechtliche Aspekte der Vorstandstätigkeit\ndigitale Vorstands- und Mitgliederversammlungen\nFreibeträge für Ehrenamtliche\, Übungsleiter*innen und Vorstände\nSatzungsregelungen\nGestaltung von Geschäftsordnungen\nVersicherungs- und Haftungsfragen
URL:https://www.dorfnews-wetteraukreis.de/event/rechtliche-sicherheit-in-der-vorstandsarbeit/
LOCATION:Online
ORGANIZER;CN="Akademie f%C3%BCr Ehrenamtlichkeit Deutschland":MAILTO:akademie@ehrenamt.de
END:VEVENT
BEGIN:VEVENT
DTSTART;TZID=Europe/Berlin:20241031T183000
DTEND;TZID=Europe/Berlin:20241031T200000
DTSTAMP:20260422T220025
CREATED:20241017T080031Z
LAST-MODIFIED:20240731T093157Z
UID:18857-1730399400-1730404800@www.dorfnews-wetteraukreis.de
SUMMARY:Kompetent im Ehrenamt: Vorstand als Team
DESCRIPTION:Vorstandsarbeit funktioniert am besten im Team. Jede/r bringt seine Kompetenzen bei der Leitung des Vereins ein und lernt jede Menge von den anderen. Doch wie wächst man zu einem echten Führungsteam zusammen? Dieser Onlinekurs vermittelt praxisorientiert\, wie eine gute Aufgabenteilung aussieht\, wie projektorientiertes Arbeiten gelingt\, wie man an Konflikten wächst und welche Tools und Methoden man kennen sollte. \nDieses Kursangebot ist als Qualifizierungsmaßnahme des Landes Hessen anerkannt und für Teilnehmende kostenfrei.
URL:https://www.dorfnews-wetteraukreis.de/event/kompetent-im-ehrenamt-vorstand-als-team/
LOCATION:Online
ORGANIZER;CN="VHS Wetterau":MAILTO:info@vhs-wetterau.de
END:VEVENT
END:VCALENDAR